BEGIN:VCALENDAR
VERSION:2.0
PRODID:-//Mums Arcade - ECPv6.15.20//NONSGML v1.0//EN
CALSCALE:GREGORIAN
METHOD:PUBLISH
X-WR-CALNAME:Mums Arcade
X-ORIGINAL-URL:https://mumsarcade.com
X-WR-CALDESC:Events for Mums Arcade
REFRESH-INTERVAL;VALUE=DURATION:PT1H
X-Robots-Tag:noindex
X-PUBLISHED-TTL:PT1H
BEGIN:VTIMEZONE
TZID:America/Detroit
BEGIN:DAYLIGHT
TZOFFSETFROM:-0500
TZOFFSETTO:-0400
TZNAME:EDT
DTSTART:20210314T070000
END:DAYLIGHT
BEGIN:STANDARD
TZOFFSETFROM:-0400
TZOFFSETTO:-0500
TZNAME:EST
DTSTART:20211107T060000
END:STANDARD
BEGIN:DAYLIGHT
TZOFFSETFROM:-0500
TZOFFSETTO:-0400
TZNAME:EDT
DTSTART:20220313T070000
END:DAYLIGHT
BEGIN:STANDARD
TZOFFSETFROM:-0400
TZOFFSETTO:-0500
TZNAME:EST
DTSTART:20221106T060000
END:STANDARD
BEGIN:DAYLIGHT
TZOFFSETFROM:-0500
TZOFFSETTO:-0400
TZNAME:EDT
DTSTART:20230312T070000
END:DAYLIGHT
BEGIN:STANDARD
TZOFFSETFROM:-0400
TZOFFSETTO:-0500
TZNAME:EST
DTSTART:20231105T060000
END:STANDARD
END:VTIMEZONE
BEGIN:VEVENT
DTSTART;TZID=America/Detroit:20221219T113000
DTEND;TZID=America/Detroit:20221219T133000
DTSTAMP:20260424T122458
CREATED:20221215T161748Z
LAST-MODIFIED:20221215T161748Z
UID:10002353-1671449400-1671456600@mumsarcade.com
SUMMARY:Kent Nicoles Party
DESCRIPTION:
URL:https://mumsarcade.com/event/kent-nicoles-party/
LOCATION:Mums Arcade\, 17738 Mack Ave\, Grosse Pointe\, MI\, 48230\, United States
CATEGORIES:PRIVATE PARTY
END:VEVENT
BEGIN:VEVENT
DTSTART;TZID=America/Detroit:20221216T170000
DTEND;TZID=America/Detroit:20221216T235900
DTSTAMP:20260424T122458
CREATED:20221209T173816Z
LAST-MODIFIED:20221209T175143Z
UID:10002347-1671210000-1671235140@mumsarcade.com
SUMMARY:Speakeasy Special
DESCRIPTION:Register now for the Speakeasy Special! \n\nLimited to first 50 participants.\nPractice begins at 5pm.\n\nMUST BE REGISTERED TO ATTEND!
URL:https://mumsarcade.com/event/speakeasy-special/
LOCATION:Mums Arcade\, 17738 Mack Ave\, Grosse Pointe\, MI\, 48230\, United States
CATEGORIES:SPECIAL EVENTS
ATTACH;FMTTYPE=image/png:https://mumsarcade.com/wp-content/uploads/2022/11/1138848-300x300-1.png
END:VEVENT
END:VCALENDAR