BEGIN:VCALENDAR
VERSION:2.0
PRODID:-//Mums Arcade - ECPv6.15.20//NONSGML v1.0//EN
CALSCALE:GREGORIAN
METHOD:PUBLISH
X-WR-CALNAME:Mums Arcade
X-ORIGINAL-URL:https://mumsarcade.com
X-WR-CALDESC:Events for Mums Arcade
REFRESH-INTERVAL;VALUE=DURATION:PT1H
X-Robots-Tag:noindex
X-PUBLISHED-TTL:PT1H
BEGIN:VTIMEZONE
TZID:America/Detroit
BEGIN:DAYLIGHT
TZOFFSETFROM:-0500
TZOFFSETTO:-0400
TZNAME:EDT
DTSTART:20220313T070000
END:DAYLIGHT
BEGIN:STANDARD
TZOFFSETFROM:-0400
TZOFFSETTO:-0500
TZNAME:EST
DTSTART:20221106T060000
END:STANDARD
BEGIN:DAYLIGHT
TZOFFSETFROM:-0500
TZOFFSETTO:-0400
TZNAME:EDT
DTSTART:20230312T070000
END:DAYLIGHT
BEGIN:STANDARD
TZOFFSETFROM:-0400
TZOFFSETTO:-0500
TZNAME:EST
DTSTART:20231105T060000
END:STANDARD
BEGIN:DAYLIGHT
TZOFFSETFROM:-0500
TZOFFSETTO:-0400
TZNAME:EDT
DTSTART:20240310T070000
END:DAYLIGHT
BEGIN:STANDARD
TZOFFSETFROM:-0400
TZOFFSETTO:-0500
TZNAME:EST
DTSTART:20241103T060000
END:STANDARD
BEGIN:DAYLIGHT
TZOFFSETFROM:-0500
TZOFFSETTO:-0400
TZNAME:EDT
DTSTART:20250309T070000
END:DAYLIGHT
BEGIN:STANDARD
TZOFFSETFROM:-0400
TZOFFSETTO:-0500
TZNAME:EST
DTSTART:20251102T060000
END:STANDARD
END:VTIMEZONE
BEGIN:VEVENT
DTSTART;TZID=America/Detroit:20240313T170000
DTEND;TZID=America/Detroit:20240313T200000
DTSTAMP:20260424T074843
CREATED:20240217T012756Z
LAST-MODIFIED:20240217T012757Z
UID:10002559-1710349200-1710360000@mumsarcade.com
SUMMARY:Open to the Public
DESCRIPTION:Open to the public Wednesdays 5-8pm: unlimited pinball & arcade play (no quarters needed!) \n“Almost half price” $8 per person\, plus Food Truck Wednesdays!
URL:https://mumsarcade.com/event/open-to-the-public-2/2024-03-13/
LOCATION:Mums Arcade\, 17738 Mack Ave\, Grosse Pointe\, MI\, 48230\, United States
CATEGORIES:Public Play
ATTACH;FMTTYPE=image/png:https://mumsarcade.com/wp-content/uploads/2022/11/1138848-300x300-1.png
END:VEVENT
BEGIN:VEVENT
DTSTART;TZID=America/Detroit:20240306T170000
DTEND;TZID=America/Detroit:20240306T200000
DTSTAMP:20260424T074843
CREATED:20240217T012756Z
LAST-MODIFIED:20240217T012757Z
UID:10002558-1709744400-1709755200@mumsarcade.com
SUMMARY:Open to the Public
DESCRIPTION:Open to the public Wednesdays 5-8pm: unlimited pinball & arcade play (no quarters needed!) \n“Almost half price” $8 per person\, plus Food Truck Wednesdays!
URL:https://mumsarcade.com/event/open-to-the-public-2/2024-03-06/
LOCATION:Mums Arcade\, 17738 Mack Ave\, Grosse Pointe\, MI\, 48230\, United States
CATEGORIES:Public Play
ATTACH;FMTTYPE=image/png:https://mumsarcade.com/wp-content/uploads/2022/11/1138848-300x300-1.png
END:VEVENT
BEGIN:VEVENT
DTSTART;TZID=America/Detroit:20240228T170000
DTEND;TZID=America/Detroit:20240228T200000
DTSTAMP:20260424T074843
CREATED:20240217T012756Z
LAST-MODIFIED:20240217T012757Z
UID:10002557-1709139600-1709150400@mumsarcade.com
SUMMARY:Open to the Public
DESCRIPTION:Open to the public Wednesdays 5-8pm: unlimited pinball & arcade play (no quarters needed!) \n“Almost half price” $8 per person\, plus Food Truck Wednesdays!
URL:https://mumsarcade.com/event/open-to-the-public-2/2024-02-28/
LOCATION:Mums Arcade\, 17738 Mack Ave\, Grosse Pointe\, MI\, 48230\, United States
CATEGORIES:Public Play
ATTACH;FMTTYPE=image/png:https://mumsarcade.com/wp-content/uploads/2022/11/1138848-300x300-1.png
END:VEVENT
BEGIN:VEVENT
DTSTART;TZID=America/Detroit:20240223T180000
DTEND;TZID=America/Detroit:20240223T210000
DTSTAMP:20260424T074843
CREATED:20240217T012312Z
LAST-MODIFIED:20240217T012312Z
UID:10002795-1708711200-1708722000@mumsarcade.com
SUMMARY:Public Tournament
DESCRIPTION:Friday Feb 23: public tournament brought to you by the traveling  “speakeasy special” \nPractice starts at 6 tourney begins at 7:30p \n$15 includes free Cloverleaf pizza $6 to compete for cash prizes
URL:https://mumsarcade.com/event/public-tournament/
LOCATION:Mums Arcade\, 17738 Mack Ave\, Grosse Pointe\, MI\, 48230\, United States
CATEGORIES:Public Play,SPECIAL EVENTS
ATTACH;FMTTYPE=image/jpeg:https://mumsarcade.com/wp-content/uploads/2022/09/pinball250.jpg
END:VEVENT
BEGIN:VEVENT
DTSTART;TZID=America/Detroit:20240221T170000
DTEND;TZID=America/Detroit:20240221T210000
DTSTAMP:20260424T074843
CREATED:20240217T012635Z
LAST-MODIFIED:20240217T012635Z
UID:10002799-1708534800-1708549200@mumsarcade.com
SUMMARY:Mid-Winter Break | Open to the Public
DESCRIPTION:The kids are already bored and you didn’t go to Florida so now what? Get in to Mum’s Arcade! \nOpen to the public hours and pricing for mid winter break week: \nWednesday Feb 21 5-9p with $8 special “almost half off pricing” and the triumphant return of Cult of the Joe Burger food truck \nThursday closed \nFriday Feb 23: public tournament brought to you by the traveling  “speakeasy special” practice starts at 6 tourney begins at 7:30p $15 includes free Cloverleaf pizza $6 to compete for cash prizes
URL:https://mumsarcade.com/event/mid-winter-break-open-to-the-public-4/
LOCATION:Mums Arcade\, 17738 Mack Ave\, Grosse Pointe\, MI\, 48230\, United States
CATEGORIES:Public Play
ATTACH;FMTTYPE=image/png:https://mumsarcade.com/wp-content/uploads/2022/11/1138848-300x300-1.png
END:VEVENT
BEGIN:VEVENT
DTSTART;TZID=America/Detroit:20240221T170000
DTEND;TZID=America/Detroit:20240221T200000
DTSTAMP:20260424T074843
CREATED:20240217T012756Z
LAST-MODIFIED:20240217T012757Z
UID:10002556-1708534800-1708545600@mumsarcade.com
SUMMARY:Open to the Public
DESCRIPTION:Open to the public Wednesdays 5-8pm: unlimited pinball & arcade play (no quarters needed!) \n“Almost half price” $8 per person\, plus Food Truck Wednesdays!
URL:https://mumsarcade.com/event/open-to-the-public-2/2024-02-21/
LOCATION:Mums Arcade\, 17738 Mack Ave\, Grosse Pointe\, MI\, 48230\, United States
CATEGORIES:Public Play
ATTACH;FMTTYPE=image/png:https://mumsarcade.com/wp-content/uploads/2022/11/1138848-300x300-1.png
END:VEVENT
BEGIN:VEVENT
DTSTART;TZID=America/Detroit:20240219T120000
DTEND;TZID=America/Detroit:20240219T200000
DTSTAMP:20260424T074843
CREATED:20240217T012338Z
LAST-MODIFIED:20240217T012338Z
UID:10002796-1708344000-1708372800@mumsarcade.com
SUMMARY:Mid-Winter Break | Open to the Public
DESCRIPTION:he kids are already bored and you didn’t go to Florida so now what? Get in to Mum’s Arcade! \nOpen to the public hours and pricing for mid winter break week:\nSaturday Feb 17 Noon-8p $15\nSunday Feb 18 Noon-6p $15\nMonday Presidents Day noon-8p $10\nTuesday: TBD \nWednesday Feb 21 5-9p with $8 special “almost half off pricing” and the triumphant return of Cult of the Joe Burger food truck\nThursday closed \nFriday Feb 23: public tournament brought to you by the traveling  “speakeasy special” practice starts at 6 tourney begins at 7:30p $15 includes free Cloverleaf pizza $6 to compete for cash prizes
URL:https://mumsarcade.com/event/mid-winter-break-open-to-the-public/
LOCATION:Mums Arcade\, 17738 Mack Ave\, Grosse Pointe\, MI\, 48230\, United States
CATEGORIES:Public Play
ATTACH;FMTTYPE=image/png:https://mumsarcade.com/wp-content/uploads/2022/11/1138848-300x300-1.png
END:VEVENT
BEGIN:VEVENT
DTSTART;TZID=America/Detroit:20240218T120000
DTEND;TZID=America/Detroit:20240218T180000
DTSTAMP:20260424T074843
CREATED:20240217T012359Z
LAST-MODIFIED:20240217T012359Z
UID:10002797-1708257600-1708279200@mumsarcade.com
SUMMARY:Mid-Winter Break | Open to the Public
DESCRIPTION:he kids are already bored and you didn’t go to Florida so now what? Get in to Mum’s Arcade! \nOpen to the public hours and pricing for mid winter break week:\nSaturday Feb 17 Noon-8p $15\nSunday Feb 18 Noon-6p $15\nMonday Presidents Day noon-8p $10\nTuesday: TBD \nWednesday Feb 21 5-9p with $8 special “almost half off pricing” and the triumphant return of Cult of the Joe Burger food truck\nThursday closed \nFriday Feb 23: public tournament brought to you by the traveling  “speakeasy special” practice starts at 6 tourney begins at 7:30p $15 includes free Cloverleaf pizza $6 to compete for cash prizes
URL:https://mumsarcade.com/event/mid-winter-break-open-to-the-public-2/
LOCATION:Mums Arcade\, 17738 Mack Ave\, Grosse Pointe\, MI\, 48230\, United States
CATEGORIES:Public Play
ATTACH;FMTTYPE=image/png:https://mumsarcade.com/wp-content/uploads/2022/11/1138848-300x300-1.png
END:VEVENT
BEGIN:VEVENT
DTSTART;TZID=America/Detroit:20240217T120000
DTEND;TZID=America/Detroit:20240217T200000
DTSTAMP:20260424T074843
CREATED:20240217T012406Z
LAST-MODIFIED:20240217T012406Z
UID:10002798-1708171200-1708200000@mumsarcade.com
SUMMARY:Mid-Winter Break | Open to the Public
DESCRIPTION:The kids are already bored and you didn’t go to Florida so now what? Get in to Mum’s Arcade! \nOpen to the public hours and pricing for mid winter break week:\nSaturday Feb 17 Noon-8p $15\nSunday Feb 18 Noon-6p $15\nMonday Presidents Day noon-8p $10\nTuesday: TBD \nWednesday Feb 21 5-9p with $8 special “almost half off pricing” and the triumphant return of Cult of the Joe Burger food truck\nThursday closed \nFriday Feb 23: public tournament brought to you by the traveling  “speakeasy special” practice starts at 6 tourney begins at 7:30p $15 includes free Cloverleaf pizza $6 to compete for cash prizes
URL:https://mumsarcade.com/event/mid-winter-break-open-to-the-public-3/
LOCATION:Mums Arcade\, 17738 Mack Ave\, Grosse Pointe\, MI\, 48230\, United States
CATEGORIES:Public Play
ATTACH;FMTTYPE=image/png:https://mumsarcade.com/wp-content/uploads/2022/11/1138848-300x300-1.png
END:VEVENT
BEGIN:VEVENT
DTSTART;TZID=America/Detroit:20240214T170000
DTEND;TZID=America/Detroit:20240214T200000
DTSTAMP:20260424T074843
CREATED:20230914T210127Z
LAST-MODIFIED:20240217T012920Z
UID:10002555-1707930000-1707940800@mumsarcade.com
SUMMARY:Open to the Public
DESCRIPTION:Open to the public Wednesdays 5-8pm: unlimited pinball & arcade play (no quarters needed!) \n“Almost half price” $8 per person\, plus Food Truck Wednesdays!
URL:https://mumsarcade.com/event/open-to-the-public/2024-02-14/
LOCATION:Mums Arcade\, 17738 Mack Ave\, Grosse Pointe\, MI\, 48230\, United States
CATEGORIES:Public Play
ATTACH;FMTTYPE=image/png:https://mumsarcade.com/wp-content/uploads/2022/11/1138848-300x300-1.png
END:VEVENT
BEGIN:VEVENT
DTSTART;TZID=America/Detroit:20240207T170000
DTEND;TZID=America/Detroit:20240207T200000
DTSTAMP:20260424T074843
CREATED:20230914T210127Z
LAST-MODIFIED:20240217T012920Z
UID:10002554-1707325200-1707336000@mumsarcade.com
SUMMARY:Open to the Public
DESCRIPTION:Open to the public Wednesdays 5-8pm: unlimited pinball & arcade play (no quarters needed!) \n“Almost half price” $8 per person\, plus Food Truck Wednesdays!
URL:https://mumsarcade.com/event/open-to-the-public/2024-02-07/
LOCATION:Mums Arcade\, 17738 Mack Ave\, Grosse Pointe\, MI\, 48230\, United States
CATEGORIES:Public Play
ATTACH;FMTTYPE=image/png:https://mumsarcade.com/wp-content/uploads/2022/11/1138848-300x300-1.png
END:VEVENT
BEGIN:VEVENT
DTSTART;TZID=America/Detroit:20240131T170000
DTEND;TZID=America/Detroit:20240131T200000
DTSTAMP:20260424T074843
CREATED:20230914T210127Z
LAST-MODIFIED:20240217T012920Z
UID:10002553-1706720400-1706731200@mumsarcade.com
SUMMARY:Open to the Public
DESCRIPTION:Open to the public Wednesdays 5-8pm: unlimited pinball & arcade play (no quarters needed!) \n“Almost half price” $8 per person\, plus Food Truck Wednesdays!
URL:https://mumsarcade.com/event/open-to-the-public/2024-01-31/
LOCATION:Mums Arcade\, 17738 Mack Ave\, Grosse Pointe\, MI\, 48230\, United States
CATEGORIES:Public Play
ATTACH;FMTTYPE=image/png:https://mumsarcade.com/wp-content/uploads/2022/11/1138848-300x300-1.png
END:VEVENT
BEGIN:VEVENT
DTSTART;TZID=America/Detroit:20240124T170000
DTEND;TZID=America/Detroit:20240124T200000
DTSTAMP:20260424T074843
CREATED:20230914T210127Z
LAST-MODIFIED:20240217T012920Z
UID:10002552-1706115600-1706126400@mumsarcade.com
SUMMARY:Open to the Public
DESCRIPTION:Open to the public Wednesdays 5-8pm: unlimited pinball & arcade play (no quarters needed!) \n“Almost half price” $8 per person\, plus Food Truck Wednesdays!
URL:https://mumsarcade.com/event/open-to-the-public/2024-01-24/
LOCATION:Mums Arcade\, 17738 Mack Ave\, Grosse Pointe\, MI\, 48230\, United States
CATEGORIES:Public Play
ATTACH;FMTTYPE=image/png:https://mumsarcade.com/wp-content/uploads/2022/11/1138848-300x300-1.png
END:VEVENT
BEGIN:VEVENT
DTSTART;TZID=America/Detroit:20240117T170000
DTEND;TZID=America/Detroit:20240117T200000
DTSTAMP:20260424T074843
CREATED:20230914T210127Z
LAST-MODIFIED:20240217T012920Z
UID:10002551-1705510800-1705521600@mumsarcade.com
SUMMARY:Open to the Public
DESCRIPTION:Open to the public Wednesdays 5-8pm: unlimited pinball & arcade play (no quarters needed!) \n“Almost half price” $8 per person\, plus Food Truck Wednesdays!
URL:https://mumsarcade.com/event/open-to-the-public/2024-01-17/
LOCATION:Mums Arcade\, 17738 Mack Ave\, Grosse Pointe\, MI\, 48230\, United States
CATEGORIES:Public Play
ATTACH;FMTTYPE=image/png:https://mumsarcade.com/wp-content/uploads/2022/11/1138848-300x300-1.png
END:VEVENT
BEGIN:VEVENT
DTSTART;TZID=America/Detroit:20240110T170000
DTEND;TZID=America/Detroit:20240110T200000
DTSTAMP:20260424T074843
CREATED:20230914T210127Z
LAST-MODIFIED:20240217T012920Z
UID:10002550-1704906000-1704916800@mumsarcade.com
SUMMARY:Open to the Public
DESCRIPTION:Open to the public Wednesdays 5-8pm: unlimited pinball & arcade play (no quarters needed!) \n“Almost half price” $8 per person\, plus Food Truck Wednesdays!
URL:https://mumsarcade.com/event/open-to-the-public/2024-01-10/
LOCATION:Mums Arcade\, 17738 Mack Ave\, Grosse Pointe\, MI\, 48230\, United States
CATEGORIES:Public Play
ATTACH;FMTTYPE=image/png:https://mumsarcade.com/wp-content/uploads/2022/11/1138848-300x300-1.png
END:VEVENT
BEGIN:VEVENT
DTSTART;TZID=America/Detroit:20240103T170000
DTEND;TZID=America/Detroit:20240103T200000
DTSTAMP:20260424T074843
CREATED:20230914T210127Z
LAST-MODIFIED:20240217T012920Z
UID:10002549-1704301200-1704312000@mumsarcade.com
SUMMARY:Open to the Public
DESCRIPTION:Open to the public Wednesdays 5-8pm: unlimited pinball & arcade play (no quarters needed!) \n“Almost half price” $8 per person\, plus Food Truck Wednesdays!
URL:https://mumsarcade.com/event/open-to-the-public/2024-01-03/
LOCATION:Mums Arcade\, 17738 Mack Ave\, Grosse Pointe\, MI\, 48230\, United States
CATEGORIES:Public Play
ATTACH;FMTTYPE=image/png:https://mumsarcade.com/wp-content/uploads/2022/11/1138848-300x300-1.png
END:VEVENT
BEGIN:VEVENT
DTSTART;TZID=America/Detroit:20231227T170000
DTEND;TZID=America/Detroit:20231227T200000
DTSTAMP:20260424T074843
CREATED:20230914T210127Z
LAST-MODIFIED:20240217T012920Z
UID:10002548-1703696400-1703707200@mumsarcade.com
SUMMARY:Open to the Public
DESCRIPTION:Open to the public Wednesdays 5-8pm: unlimited pinball & arcade play (no quarters needed!) \n“Almost half price” $8 per person\, plus Food Truck Wednesdays!
URL:https://mumsarcade.com/event/open-to-the-public/2023-12-27/
LOCATION:Mums Arcade\, 17738 Mack Ave\, Grosse Pointe\, MI\, 48230\, United States
CATEGORIES:Public Play
ATTACH;FMTTYPE=image/png:https://mumsarcade.com/wp-content/uploads/2022/11/1138848-300x300-1.png
END:VEVENT
BEGIN:VEVENT
DTSTART;TZID=America/Detroit:20231220T170000
DTEND;TZID=America/Detroit:20231220T200000
DTSTAMP:20260424T074843
CREATED:20230914T210127Z
LAST-MODIFIED:20240217T012920Z
UID:10002547-1703091600-1703102400@mumsarcade.com
SUMMARY:Open to the Public
DESCRIPTION:Open to the public Wednesdays 5-8pm: unlimited pinball & arcade play (no quarters needed!) \n“Almost half price” $8 per person\, plus Food Truck Wednesdays!
URL:https://mumsarcade.com/event/open-to-the-public/2023-12-20/
LOCATION:Mums Arcade\, 17738 Mack Ave\, Grosse Pointe\, MI\, 48230\, United States
CATEGORIES:Public Play
ATTACH;FMTTYPE=image/png:https://mumsarcade.com/wp-content/uploads/2022/11/1138848-300x300-1.png
END:VEVENT
BEGIN:VEVENT
DTSTART;TZID=America/Detroit:20231213T170000
DTEND;TZID=America/Detroit:20231213T200000
DTSTAMP:20260424T074843
CREATED:20230914T210127Z
LAST-MODIFIED:20240217T012920Z
UID:10002546-1702486800-1702497600@mumsarcade.com
SUMMARY:Open to the Public
DESCRIPTION:Open to the public Wednesdays 5-8pm: unlimited pinball & arcade play (no quarters needed!) \n“Almost half price” $8 per person\, plus Food Truck Wednesdays!
URL:https://mumsarcade.com/event/open-to-the-public/2023-12-13/
LOCATION:Mums Arcade\, 17738 Mack Ave\, Grosse Pointe\, MI\, 48230\, United States
CATEGORIES:Public Play
ATTACH;FMTTYPE=image/png:https://mumsarcade.com/wp-content/uploads/2022/11/1138848-300x300-1.png
END:VEVENT
BEGIN:VEVENT
DTSTART;TZID=America/Detroit:20231206T170000
DTEND;TZID=America/Detroit:20231206T200000
DTSTAMP:20260424T074843
CREATED:20230914T210127Z
LAST-MODIFIED:20240217T012920Z
UID:10002545-1701882000-1701892800@mumsarcade.com
SUMMARY:Open to the Public
DESCRIPTION:Open to the public Wednesdays 5-8pm: unlimited pinball & arcade play (no quarters needed!) \n“Almost half price” $8 per person\, plus Food Truck Wednesdays!
URL:https://mumsarcade.com/event/open-to-the-public/2023-12-06/
LOCATION:Mums Arcade\, 17738 Mack Ave\, Grosse Pointe\, MI\, 48230\, United States
CATEGORIES:Public Play
ATTACH;FMTTYPE=image/png:https://mumsarcade.com/wp-content/uploads/2022/11/1138848-300x300-1.png
END:VEVENT
BEGIN:VEVENT
DTSTART;TZID=America/Detroit:20231129T170000
DTEND;TZID=America/Detroit:20231129T200000
DTSTAMP:20260424T074843
CREATED:20230914T210127Z
LAST-MODIFIED:20240217T012920Z
UID:10002544-1701277200-1701288000@mumsarcade.com
SUMMARY:Open to the Public
DESCRIPTION:Open to the public Wednesdays 5-8pm: unlimited pinball & arcade play (no quarters needed!) \n“Almost half price” $8 per person\, plus Food Truck Wednesdays!
URL:https://mumsarcade.com/event/open-to-the-public/2023-11-29/
LOCATION:Mums Arcade\, 17738 Mack Ave\, Grosse Pointe\, MI\, 48230\, United States
CATEGORIES:Public Play
ATTACH;FMTTYPE=image/png:https://mumsarcade.com/wp-content/uploads/2022/11/1138848-300x300-1.png
END:VEVENT
BEGIN:VEVENT
DTSTART;TZID=America/Detroit:20231122T170000
DTEND;TZID=America/Detroit:20231122T200000
DTSTAMP:20260424T074843
CREATED:20230914T210127Z
LAST-MODIFIED:20240217T012920Z
UID:10002543-1700672400-1700683200@mumsarcade.com
SUMMARY:Open to the Public
DESCRIPTION:Open to the public Wednesdays 5-8pm: unlimited pinball & arcade play (no quarters needed!) \n“Almost half price” $8 per person\, plus Food Truck Wednesdays!
URL:https://mumsarcade.com/event/open-to-the-public/2023-11-22/
LOCATION:Mums Arcade\, 17738 Mack Ave\, Grosse Pointe\, MI\, 48230\, United States
CATEGORIES:Public Play
ATTACH;FMTTYPE=image/png:https://mumsarcade.com/wp-content/uploads/2022/11/1138848-300x300-1.png
END:VEVENT
BEGIN:VEVENT
DTSTART;TZID=America/Detroit:20231115T170000
DTEND;TZID=America/Detroit:20231115T200000
DTSTAMP:20260424T074843
CREATED:20230914T210127Z
LAST-MODIFIED:20240217T012920Z
UID:10002542-1700067600-1700078400@mumsarcade.com
SUMMARY:Open to the Public
DESCRIPTION:Open to the public Wednesdays 5-8pm: unlimited pinball & arcade play (no quarters needed!) \n“Almost half price” $8 per person\, plus Food Truck Wednesdays!
URL:https://mumsarcade.com/event/open-to-the-public/2023-11-15/
LOCATION:Mums Arcade\, 17738 Mack Ave\, Grosse Pointe\, MI\, 48230\, United States
CATEGORIES:Public Play
ATTACH;FMTTYPE=image/png:https://mumsarcade.com/wp-content/uploads/2022/11/1138848-300x300-1.png
END:VEVENT
BEGIN:VEVENT
DTSTART;TZID=America/Detroit:20231108T170000
DTEND;TZID=America/Detroit:20231108T200000
DTSTAMP:20260424T074843
CREATED:20230914T210127Z
LAST-MODIFIED:20240217T012920Z
UID:10002541-1699462800-1699473600@mumsarcade.com
SUMMARY:Open to the Public
DESCRIPTION:Open to the public Wednesdays 5-8pm: unlimited pinball & arcade play (no quarters needed!) \n“Almost half price” $8 per person\, plus Food Truck Wednesdays!
URL:https://mumsarcade.com/event/open-to-the-public/2023-11-08/
LOCATION:Mums Arcade\, 17738 Mack Ave\, Grosse Pointe\, MI\, 48230\, United States
CATEGORIES:Public Play
ATTACH;FMTTYPE=image/png:https://mumsarcade.com/wp-content/uploads/2022/11/1138848-300x300-1.png
END:VEVENT
BEGIN:VEVENT
DTSTART;TZID=America/Detroit:20231101T170000
DTEND;TZID=America/Detroit:20231101T200000
DTSTAMP:20260424T074843
CREATED:20230914T210127Z
LAST-MODIFIED:20240217T012920Z
UID:10002540-1698858000-1698868800@mumsarcade.com
SUMMARY:Open to the Public
DESCRIPTION:Open to the public Wednesdays 5-8pm: unlimited pinball & arcade play (no quarters needed!) \n“Almost half price” $8 per person\, plus Food Truck Wednesdays!
URL:https://mumsarcade.com/event/open-to-the-public/2023-11-01/
LOCATION:Mums Arcade\, 17738 Mack Ave\, Grosse Pointe\, MI\, 48230\, United States
CATEGORIES:Public Play
ATTACH;FMTTYPE=image/png:https://mumsarcade.com/wp-content/uploads/2022/11/1138848-300x300-1.png
END:VEVENT
BEGIN:VEVENT
DTSTART;TZID=America/Detroit:20231025T170000
DTEND;TZID=America/Detroit:20231025T200000
DTSTAMP:20260424T074843
CREATED:20230914T210127Z
LAST-MODIFIED:20240217T012920Z
UID:10002539-1698253200-1698264000@mumsarcade.com
SUMMARY:Open to the Public
DESCRIPTION:Open to the public Wednesdays 5-8pm: unlimited pinball & arcade play (no quarters needed!) \n“Almost half price” $8 per person\, plus Food Truck Wednesdays!
URL:https://mumsarcade.com/event/open-to-the-public/2023-10-25/
LOCATION:Mums Arcade\, 17738 Mack Ave\, Grosse Pointe\, MI\, 48230\, United States
CATEGORIES:Public Play
ATTACH;FMTTYPE=image/png:https://mumsarcade.com/wp-content/uploads/2022/11/1138848-300x300-1.png
END:VEVENT
BEGIN:VEVENT
DTSTART;TZID=America/Detroit:20231018T170000
DTEND;TZID=America/Detroit:20231018T200000
DTSTAMP:20260424T074843
CREATED:20230914T210127Z
LAST-MODIFIED:20240217T012920Z
UID:10002538-1697648400-1697659200@mumsarcade.com
SUMMARY:Open to the Public
DESCRIPTION:Open to the public Wednesdays 5-8pm: unlimited pinball & arcade play (no quarters needed!) \n“Almost half price” $8 per person\, plus Food Truck Wednesdays!
URL:https://mumsarcade.com/event/open-to-the-public/2023-10-18/
LOCATION:Mums Arcade\, 17738 Mack Ave\, Grosse Pointe\, MI\, 48230\, United States
CATEGORIES:Public Play
ATTACH;FMTTYPE=image/png:https://mumsarcade.com/wp-content/uploads/2022/11/1138848-300x300-1.png
END:VEVENT
BEGIN:VEVENT
DTSTART;TZID=America/Detroit:20231011T170000
DTEND;TZID=America/Detroit:20231011T200000
DTSTAMP:20260424T074843
CREATED:20230914T210127Z
LAST-MODIFIED:20240217T012920Z
UID:10002537-1697043600-1697054400@mumsarcade.com
SUMMARY:Open to the Public
DESCRIPTION:Open to the public Wednesdays 5-8pm: unlimited pinball & arcade play (no quarters needed!) \n“Almost half price” $8 per person\, plus Food Truck Wednesdays!
URL:https://mumsarcade.com/event/open-to-the-public/2023-10-11/
LOCATION:Mums Arcade\, 17738 Mack Ave\, Grosse Pointe\, MI\, 48230\, United States
CATEGORIES:Public Play
ATTACH;FMTTYPE=image/png:https://mumsarcade.com/wp-content/uploads/2022/11/1138848-300x300-1.png
END:VEVENT
BEGIN:VEVENT
DTSTART;TZID=America/Detroit:20231004T170000
DTEND;TZID=America/Detroit:20231004T200000
DTSTAMP:20260424T074843
CREATED:20230914T210127Z
LAST-MODIFIED:20240217T012920Z
UID:10002536-1696438800-1696449600@mumsarcade.com
SUMMARY:Open to the Public
DESCRIPTION:Open to the public Wednesdays 5-8pm: unlimited pinball & arcade play (no quarters needed!) \n“Almost half price” $8 per person\, plus Food Truck Wednesdays!
URL:https://mumsarcade.com/event/open-to-the-public/2023-10-04/
LOCATION:Mums Arcade\, 17738 Mack Ave\, Grosse Pointe\, MI\, 48230\, United States
CATEGORIES:Public Play
ATTACH;FMTTYPE=image/png:https://mumsarcade.com/wp-content/uploads/2022/11/1138848-300x300-1.png
END:VEVENT
BEGIN:VEVENT
DTSTART;TZID=America/Detroit:20230927T170000
DTEND;TZID=America/Detroit:20230927T200000
DTSTAMP:20260424T074843
CREATED:20230914T210127Z
LAST-MODIFIED:20240217T012920Z
UID:10002535-1695834000-1695844800@mumsarcade.com
SUMMARY:Open to the Public
DESCRIPTION:Open to the public Wednesdays 5-8pm: unlimited pinball & arcade play (no quarters needed!) \n“Almost half price” $8 per person\, plus Food Truck Wednesdays!
URL:https://mumsarcade.com/event/open-to-the-public/2023-09-27/
LOCATION:Mums Arcade\, 17738 Mack Ave\, Grosse Pointe\, MI\, 48230\, United States
CATEGORIES:Public Play
ATTACH;FMTTYPE=image/png:https://mumsarcade.com/wp-content/uploads/2022/11/1138848-300x300-1.png
END:VEVENT
END:VCALENDAR