BEGIN:VCALENDAR
VERSION:2.0
PRODID:-//Mums Arcade - ECPv6.15.20//NONSGML v1.0//EN
CALSCALE:GREGORIAN
METHOD:PUBLISH
X-ORIGINAL-URL:https://mumsarcade.com
X-WR-CALDESC:Events for Mums Arcade
REFRESH-INTERVAL;VALUE=DURATION:PT1H
X-Robots-Tag:noindex
X-PUBLISHED-TTL:PT1H
BEGIN:VTIMEZONE
TZID:America/Detroit
BEGIN:DAYLIGHT
TZOFFSETFROM:-0500
TZOFFSETTO:-0400
TZNAME:EDT
DTSTART:20260308T070000
END:DAYLIGHT
BEGIN:STANDARD
TZOFFSETFROM:-0400
TZOFFSETTO:-0500
TZNAME:EST
DTSTART:20261101T060000
END:STANDARD
BEGIN:DAYLIGHT
TZOFFSETFROM:-0500
TZOFFSETTO:-0400
TZNAME:EDT
DTSTART:20270314T070000
END:DAYLIGHT
BEGIN:STANDARD
TZOFFSETFROM:-0400
TZOFFSETTO:-0500
TZNAME:EST
DTSTART:20271107T060000
END:STANDARD
BEGIN:DAYLIGHT
TZOFFSETFROM:-0500
TZOFFSETTO:-0400
TZNAME:EDT
DTSTART:20280312T070000
END:DAYLIGHT
BEGIN:STANDARD
TZOFFSETFROM:-0400
TZOFFSETTO:-0500
TZNAME:EST
DTSTART:20281105T060000
END:STANDARD
END:VTIMEZONE
BEGIN:VEVENT
DTSTART;TZID=America/Detroit:20270317T170000
DTEND;TZID=America/Detroit:20270317T200000
DTSTAMP:20260423T193634
CREATED:20240217T012756Z
LAST-MODIFIED:20240217T012757Z
UID:10002716-1805302800-1805313600@mumsarcade.com
SUMMARY:Open to the Public
DESCRIPTION:Open to the public Wednesdays 5-8pm: unlimited pinball & arcade play (no quarters needed!) \n“Almost half price” $8 per person\, plus Food Truck Wednesdays!
URL:https://mumsarcade.com/event/open-to-the-public-2/2027-03-17/
LOCATION:Mums Arcade\, 17738 Mack Ave\, Grosse Pointe\, MI\, 48230\, United States
CATEGORIES:Public Play
ATTACH;FMTTYPE=image/png:https://mumsarcade.com/wp-content/uploads/2022/11/1138848-300x300-1.png
END:VEVENT
BEGIN:VEVENT
DTSTART;TZID=America/Detroit:20270324T170000
DTEND;TZID=America/Detroit:20270324T200000
DTSTAMP:20260423T193634
CREATED:20240217T012756Z
LAST-MODIFIED:20240217T012757Z
UID:10002717-1805907600-1805918400@mumsarcade.com
SUMMARY:Open to the Public
DESCRIPTION:Open to the public Wednesdays 5-8pm: unlimited pinball & arcade play (no quarters needed!) \n“Almost half price” $8 per person\, plus Food Truck Wednesdays!
URL:https://mumsarcade.com/event/open-to-the-public-2/2027-03-24/
LOCATION:Mums Arcade\, 17738 Mack Ave\, Grosse Pointe\, MI\, 48230\, United States
CATEGORIES:Public Play
ATTACH;FMTTYPE=image/png:https://mumsarcade.com/wp-content/uploads/2022/11/1138848-300x300-1.png
END:VEVENT
BEGIN:VEVENT
DTSTART;TZID=America/Detroit:20270331T170000
DTEND;TZID=America/Detroit:20270331T200000
DTSTAMP:20260423T193634
CREATED:20240217T012756Z
LAST-MODIFIED:20240217T012757Z
UID:10002718-1806512400-1806523200@mumsarcade.com
SUMMARY:Open to the Public
DESCRIPTION:Open to the public Wednesdays 5-8pm: unlimited pinball & arcade play (no quarters needed!) \n“Almost half price” $8 per person\, plus Food Truck Wednesdays!
URL:https://mumsarcade.com/event/open-to-the-public-2/2027-03-31/
LOCATION:Mums Arcade\, 17738 Mack Ave\, Grosse Pointe\, MI\, 48230\, United States
CATEGORIES:Public Play
ATTACH;FMTTYPE=image/png:https://mumsarcade.com/wp-content/uploads/2022/11/1138848-300x300-1.png
END:VEVENT
BEGIN:VEVENT
DTSTART;TZID=America/Detroit:20270407T170000
DTEND;TZID=America/Detroit:20270407T200000
DTSTAMP:20260423T193634
CREATED:20240217T012756Z
LAST-MODIFIED:20240217T012757Z
UID:10002719-1807117200-1807128000@mumsarcade.com
SUMMARY:Open to the Public
DESCRIPTION:Open to the public Wednesdays 5-8pm: unlimited pinball & arcade play (no quarters needed!) \n“Almost half price” $8 per person\, plus Food Truck Wednesdays!
URL:https://mumsarcade.com/event/open-to-the-public-2/2027-04-07/
LOCATION:Mums Arcade\, 17738 Mack Ave\, Grosse Pointe\, MI\, 48230\, United States
CATEGORIES:Public Play
ATTACH;FMTTYPE=image/png:https://mumsarcade.com/wp-content/uploads/2022/11/1138848-300x300-1.png
END:VEVENT
BEGIN:VEVENT
DTSTART;TZID=America/Detroit:20270414T170000
DTEND;TZID=America/Detroit:20270414T200000
DTSTAMP:20260423T193634
CREATED:20240217T012756Z
LAST-MODIFIED:20240217T012757Z
UID:10002720-1807722000-1807732800@mumsarcade.com
SUMMARY:Open to the Public
DESCRIPTION:Open to the public Wednesdays 5-8pm: unlimited pinball & arcade play (no quarters needed!) \n“Almost half price” $8 per person\, plus Food Truck Wednesdays!
URL:https://mumsarcade.com/event/open-to-the-public-2/2027-04-14/
LOCATION:Mums Arcade\, 17738 Mack Ave\, Grosse Pointe\, MI\, 48230\, United States
CATEGORIES:Public Play
ATTACH;FMTTYPE=image/png:https://mumsarcade.com/wp-content/uploads/2022/11/1138848-300x300-1.png
END:VEVENT
BEGIN:VEVENT
DTSTART;TZID=America/Detroit:20270421T170000
DTEND;TZID=America/Detroit:20270421T200000
DTSTAMP:20260423T193634
CREATED:20240217T012756Z
LAST-MODIFIED:20240217T012757Z
UID:10002721-1808326800-1808337600@mumsarcade.com
SUMMARY:Open to the Public
DESCRIPTION:Open to the public Wednesdays 5-8pm: unlimited pinball & arcade play (no quarters needed!) \n“Almost half price” $8 per person\, plus Food Truck Wednesdays!
URL:https://mumsarcade.com/event/open-to-the-public-2/2027-04-21/
LOCATION:Mums Arcade\, 17738 Mack Ave\, Grosse Pointe\, MI\, 48230\, United States
CATEGORIES:Public Play
ATTACH;FMTTYPE=image/png:https://mumsarcade.com/wp-content/uploads/2022/11/1138848-300x300-1.png
END:VEVENT
BEGIN:VEVENT
DTSTART;TZID=America/Detroit:20270428T170000
DTEND;TZID=America/Detroit:20270428T200000
DTSTAMP:20260423T193634
CREATED:20240217T012756Z
LAST-MODIFIED:20240217T012757Z
UID:10002722-1808931600-1808942400@mumsarcade.com
SUMMARY:Open to the Public
DESCRIPTION:Open to the public Wednesdays 5-8pm: unlimited pinball & arcade play (no quarters needed!) \n“Almost half price” $8 per person\, plus Food Truck Wednesdays!
URL:https://mumsarcade.com/event/open-to-the-public-2/2027-04-28/
LOCATION:Mums Arcade\, 17738 Mack Ave\, Grosse Pointe\, MI\, 48230\, United States
CATEGORIES:Public Play
ATTACH;FMTTYPE=image/png:https://mumsarcade.com/wp-content/uploads/2022/11/1138848-300x300-1.png
END:VEVENT
BEGIN:VEVENT
DTSTART;TZID=America/Detroit:20270505T170000
DTEND;TZID=America/Detroit:20270505T200000
DTSTAMP:20260423T193634
CREATED:20240217T012756Z
LAST-MODIFIED:20240217T012757Z
UID:10002723-1809536400-1809547200@mumsarcade.com
SUMMARY:Open to the Public
DESCRIPTION:Open to the public Wednesdays 5-8pm: unlimited pinball & arcade play (no quarters needed!) \n“Almost half price” $8 per person\, plus Food Truck Wednesdays!
URL:https://mumsarcade.com/event/open-to-the-public-2/2027-05-05/
LOCATION:Mums Arcade\, 17738 Mack Ave\, Grosse Pointe\, MI\, 48230\, United States
CATEGORIES:Public Play
ATTACH;FMTTYPE=image/png:https://mumsarcade.com/wp-content/uploads/2022/11/1138848-300x300-1.png
END:VEVENT
BEGIN:VEVENT
DTSTART;TZID=America/Detroit:20270512T170000
DTEND;TZID=America/Detroit:20270512T200000
DTSTAMP:20260423T193634
CREATED:20240217T012756Z
LAST-MODIFIED:20240217T012757Z
UID:10002724-1810141200-1810152000@mumsarcade.com
SUMMARY:Open to the Public
DESCRIPTION:Open to the public Wednesdays 5-8pm: unlimited pinball & arcade play (no quarters needed!) \n“Almost half price” $8 per person\, plus Food Truck Wednesdays!
URL:https://mumsarcade.com/event/open-to-the-public-2/2027-05-12/
LOCATION:Mums Arcade\, 17738 Mack Ave\, Grosse Pointe\, MI\, 48230\, United States
CATEGORIES:Public Play
ATTACH;FMTTYPE=image/png:https://mumsarcade.com/wp-content/uploads/2022/11/1138848-300x300-1.png
END:VEVENT
BEGIN:VEVENT
DTSTART;TZID=America/Detroit:20270519T170000
DTEND;TZID=America/Detroit:20270519T200000
DTSTAMP:20260423T193634
CREATED:20240217T012756Z
LAST-MODIFIED:20240217T012757Z
UID:10002725-1810746000-1810756800@mumsarcade.com
SUMMARY:Open to the Public
DESCRIPTION:Open to the public Wednesdays 5-8pm: unlimited pinball & arcade play (no quarters needed!) \n“Almost half price” $8 per person\, plus Food Truck Wednesdays!
URL:https://mumsarcade.com/event/open-to-the-public-2/2027-05-19/
LOCATION:Mums Arcade\, 17738 Mack Ave\, Grosse Pointe\, MI\, 48230\, United States
CATEGORIES:Public Play
ATTACH;FMTTYPE=image/png:https://mumsarcade.com/wp-content/uploads/2022/11/1138848-300x300-1.png
END:VEVENT
BEGIN:VEVENT
DTSTART;TZID=America/Detroit:20270526T170000
DTEND;TZID=America/Detroit:20270526T200000
DTSTAMP:20260423T193634
CREATED:20240217T012756Z
LAST-MODIFIED:20240217T012757Z
UID:10002726-1811350800-1811361600@mumsarcade.com
SUMMARY:Open to the Public
DESCRIPTION:Open to the public Wednesdays 5-8pm: unlimited pinball & arcade play (no quarters needed!) \n“Almost half price” $8 per person\, plus Food Truck Wednesdays!
URL:https://mumsarcade.com/event/open-to-the-public-2/2027-05-26/
LOCATION:Mums Arcade\, 17738 Mack Ave\, Grosse Pointe\, MI\, 48230\, United States
CATEGORIES:Public Play
ATTACH;FMTTYPE=image/png:https://mumsarcade.com/wp-content/uploads/2022/11/1138848-300x300-1.png
END:VEVENT
BEGIN:VEVENT
DTSTART;TZID=America/Detroit:20270602T170000
DTEND;TZID=America/Detroit:20270602T200000
DTSTAMP:20260423T193634
CREATED:20240217T012756Z
LAST-MODIFIED:20240217T012757Z
UID:10002727-1811955600-1811966400@mumsarcade.com
SUMMARY:Open to the Public
DESCRIPTION:Open to the public Wednesdays 5-8pm: unlimited pinball & arcade play (no quarters needed!) \n“Almost half price” $8 per person\, plus Food Truck Wednesdays!
URL:https://mumsarcade.com/event/open-to-the-public-2/2027-06-02/
LOCATION:Mums Arcade\, 17738 Mack Ave\, Grosse Pointe\, MI\, 48230\, United States
CATEGORIES:Public Play
ATTACH;FMTTYPE=image/png:https://mumsarcade.com/wp-content/uploads/2022/11/1138848-300x300-1.png
END:VEVENT
BEGIN:VEVENT
DTSTART;TZID=America/Detroit:20270609T170000
DTEND;TZID=America/Detroit:20270609T200000
DTSTAMP:20260423T193634
CREATED:20240217T012756Z
LAST-MODIFIED:20240217T012757Z
UID:10002728-1812560400-1812571200@mumsarcade.com
SUMMARY:Open to the Public
DESCRIPTION:Open to the public Wednesdays 5-8pm: unlimited pinball & arcade play (no quarters needed!) \n“Almost half price” $8 per person\, plus Food Truck Wednesdays!
URL:https://mumsarcade.com/event/open-to-the-public-2/2027-06-09/
LOCATION:Mums Arcade\, 17738 Mack Ave\, Grosse Pointe\, MI\, 48230\, United States
CATEGORIES:Public Play
ATTACH;FMTTYPE=image/png:https://mumsarcade.com/wp-content/uploads/2022/11/1138848-300x300-1.png
END:VEVENT
BEGIN:VEVENT
DTSTART;TZID=America/Detroit:20270616T170000
DTEND;TZID=America/Detroit:20270616T200000
DTSTAMP:20260423T193634
CREATED:20240217T012756Z
LAST-MODIFIED:20240217T012757Z
UID:10002729-1813165200-1813176000@mumsarcade.com
SUMMARY:Open to the Public
DESCRIPTION:Open to the public Wednesdays 5-8pm: unlimited pinball & arcade play (no quarters needed!) \n“Almost half price” $8 per person\, plus Food Truck Wednesdays!
URL:https://mumsarcade.com/event/open-to-the-public-2/2027-06-16/
LOCATION:Mums Arcade\, 17738 Mack Ave\, Grosse Pointe\, MI\, 48230\, United States
CATEGORIES:Public Play
ATTACH;FMTTYPE=image/png:https://mumsarcade.com/wp-content/uploads/2022/11/1138848-300x300-1.png
END:VEVENT
BEGIN:VEVENT
DTSTART;TZID=America/Detroit:20270623T170000
DTEND;TZID=America/Detroit:20270623T200000
DTSTAMP:20260423T193634
CREATED:20240217T012756Z
LAST-MODIFIED:20240217T012757Z
UID:10002730-1813770000-1813780800@mumsarcade.com
SUMMARY:Open to the Public
DESCRIPTION:Open to the public Wednesdays 5-8pm: unlimited pinball & arcade play (no quarters needed!) \n“Almost half price” $8 per person\, plus Food Truck Wednesdays!
URL:https://mumsarcade.com/event/open-to-the-public-2/2027-06-23/
LOCATION:Mums Arcade\, 17738 Mack Ave\, Grosse Pointe\, MI\, 48230\, United States
CATEGORIES:Public Play
ATTACH;FMTTYPE=image/png:https://mumsarcade.com/wp-content/uploads/2022/11/1138848-300x300-1.png
END:VEVENT
BEGIN:VEVENT
DTSTART;TZID=America/Detroit:20270630T170000
DTEND;TZID=America/Detroit:20270630T200000
DTSTAMP:20260423T193634
CREATED:20240217T012756Z
LAST-MODIFIED:20240217T012757Z
UID:10002731-1814374800-1814385600@mumsarcade.com
SUMMARY:Open to the Public
DESCRIPTION:Open to the public Wednesdays 5-8pm: unlimited pinball & arcade play (no quarters needed!) \n“Almost half price” $8 per person\, plus Food Truck Wednesdays!
URL:https://mumsarcade.com/event/open-to-the-public-2/2027-06-30/
LOCATION:Mums Arcade\, 17738 Mack Ave\, Grosse Pointe\, MI\, 48230\, United States
CATEGORIES:Public Play
ATTACH;FMTTYPE=image/png:https://mumsarcade.com/wp-content/uploads/2022/11/1138848-300x300-1.png
END:VEVENT
BEGIN:VEVENT
DTSTART;TZID=America/Detroit:20270707T170000
DTEND;TZID=America/Detroit:20270707T200000
DTSTAMP:20260423T193634
CREATED:20240217T012756Z
LAST-MODIFIED:20240217T012757Z
UID:10002732-1814979600-1814990400@mumsarcade.com
SUMMARY:Open to the Public
DESCRIPTION:Open to the public Wednesdays 5-8pm: unlimited pinball & arcade play (no quarters needed!) \n“Almost half price” $8 per person\, plus Food Truck Wednesdays!
URL:https://mumsarcade.com/event/open-to-the-public-2/2027-07-07/
LOCATION:Mums Arcade\, 17738 Mack Ave\, Grosse Pointe\, MI\, 48230\, United States
CATEGORIES:Public Play
ATTACH;FMTTYPE=image/png:https://mumsarcade.com/wp-content/uploads/2022/11/1138848-300x300-1.png
END:VEVENT
BEGIN:VEVENT
DTSTART;TZID=America/Detroit:20270714T170000
DTEND;TZID=America/Detroit:20270714T200000
DTSTAMP:20260423T193634
CREATED:20240217T012756Z
LAST-MODIFIED:20240217T012757Z
UID:10002733-1815584400-1815595200@mumsarcade.com
SUMMARY:Open to the Public
DESCRIPTION:Open to the public Wednesdays 5-8pm: unlimited pinball & arcade play (no quarters needed!) \n“Almost half price” $8 per person\, plus Food Truck Wednesdays!
URL:https://mumsarcade.com/event/open-to-the-public-2/2027-07-14/
LOCATION:Mums Arcade\, 17738 Mack Ave\, Grosse Pointe\, MI\, 48230\, United States
CATEGORIES:Public Play
ATTACH;FMTTYPE=image/png:https://mumsarcade.com/wp-content/uploads/2022/11/1138848-300x300-1.png
END:VEVENT
BEGIN:VEVENT
DTSTART;TZID=America/Detroit:20270721T170000
DTEND;TZID=America/Detroit:20270721T200000
DTSTAMP:20260423T193634
CREATED:20240217T012756Z
LAST-MODIFIED:20240217T012757Z
UID:10002734-1816189200-1816200000@mumsarcade.com
SUMMARY:Open to the Public
DESCRIPTION:Open to the public Wednesdays 5-8pm: unlimited pinball & arcade play (no quarters needed!) \n“Almost half price” $8 per person\, plus Food Truck Wednesdays!
URL:https://mumsarcade.com/event/open-to-the-public-2/2027-07-21/
LOCATION:Mums Arcade\, 17738 Mack Ave\, Grosse Pointe\, MI\, 48230\, United States
CATEGORIES:Public Play
ATTACH;FMTTYPE=image/png:https://mumsarcade.com/wp-content/uploads/2022/11/1138848-300x300-1.png
END:VEVENT
BEGIN:VEVENT
DTSTART;TZID=America/Detroit:20270728T170000
DTEND;TZID=America/Detroit:20270728T200000
DTSTAMP:20260423T193634
CREATED:20240217T012756Z
LAST-MODIFIED:20240217T012757Z
UID:10002735-1816794000-1816804800@mumsarcade.com
SUMMARY:Open to the Public
DESCRIPTION:Open to the public Wednesdays 5-8pm: unlimited pinball & arcade play (no quarters needed!) \n“Almost half price” $8 per person\, plus Food Truck Wednesdays!
URL:https://mumsarcade.com/event/open-to-the-public-2/2027-07-28/
LOCATION:Mums Arcade\, 17738 Mack Ave\, Grosse Pointe\, MI\, 48230\, United States
CATEGORIES:Public Play
ATTACH;FMTTYPE=image/png:https://mumsarcade.com/wp-content/uploads/2022/11/1138848-300x300-1.png
END:VEVENT
BEGIN:VEVENT
DTSTART;TZID=America/Detroit:20270804T170000
DTEND;TZID=America/Detroit:20270804T200000
DTSTAMP:20260423T193634
CREATED:20240217T012756Z
LAST-MODIFIED:20240217T012757Z
UID:10002736-1817398800-1817409600@mumsarcade.com
SUMMARY:Open to the Public
DESCRIPTION:Open to the public Wednesdays 5-8pm: unlimited pinball & arcade play (no quarters needed!) \n“Almost half price” $8 per person\, plus Food Truck Wednesdays!
URL:https://mumsarcade.com/event/open-to-the-public-2/2027-08-04/
LOCATION:Mums Arcade\, 17738 Mack Ave\, Grosse Pointe\, MI\, 48230\, United States
CATEGORIES:Public Play
ATTACH;FMTTYPE=image/png:https://mumsarcade.com/wp-content/uploads/2022/11/1138848-300x300-1.png
END:VEVENT
BEGIN:VEVENT
DTSTART;TZID=America/Detroit:20270811T170000
DTEND;TZID=America/Detroit:20270811T200000
DTSTAMP:20260423T193634
CREATED:20240217T012756Z
LAST-MODIFIED:20240217T012757Z
UID:10002737-1818003600-1818014400@mumsarcade.com
SUMMARY:Open to the Public
DESCRIPTION:Open to the public Wednesdays 5-8pm: unlimited pinball & arcade play (no quarters needed!) \n“Almost half price” $8 per person\, plus Food Truck Wednesdays!
URL:https://mumsarcade.com/event/open-to-the-public-2/2027-08-11/
LOCATION:Mums Arcade\, 17738 Mack Ave\, Grosse Pointe\, MI\, 48230\, United States
CATEGORIES:Public Play
ATTACH;FMTTYPE=image/png:https://mumsarcade.com/wp-content/uploads/2022/11/1138848-300x300-1.png
END:VEVENT
BEGIN:VEVENT
DTSTART;TZID=America/Detroit:20270818T170000
DTEND;TZID=America/Detroit:20270818T200000
DTSTAMP:20260423T193634
CREATED:20240217T012756Z
LAST-MODIFIED:20240217T012757Z
UID:10002738-1818608400-1818619200@mumsarcade.com
SUMMARY:Open to the Public
DESCRIPTION:Open to the public Wednesdays 5-8pm: unlimited pinball & arcade play (no quarters needed!) \n“Almost half price” $8 per person\, plus Food Truck Wednesdays!
URL:https://mumsarcade.com/event/open-to-the-public-2/2027-08-18/
LOCATION:Mums Arcade\, 17738 Mack Ave\, Grosse Pointe\, MI\, 48230\, United States
CATEGORIES:Public Play
ATTACH;FMTTYPE=image/png:https://mumsarcade.com/wp-content/uploads/2022/11/1138848-300x300-1.png
END:VEVENT
BEGIN:VEVENT
DTSTART;TZID=America/Detroit:20270825T170000
DTEND;TZID=America/Detroit:20270825T200000
DTSTAMP:20260423T193634
CREATED:20240217T012756Z
LAST-MODIFIED:20240217T012757Z
UID:10002739-1819213200-1819224000@mumsarcade.com
SUMMARY:Open to the Public
DESCRIPTION:Open to the public Wednesdays 5-8pm: unlimited pinball & arcade play (no quarters needed!) \n“Almost half price” $8 per person\, plus Food Truck Wednesdays!
URL:https://mumsarcade.com/event/open-to-the-public-2/2027-08-25/
LOCATION:Mums Arcade\, 17738 Mack Ave\, Grosse Pointe\, MI\, 48230\, United States
CATEGORIES:Public Play
ATTACH;FMTTYPE=image/png:https://mumsarcade.com/wp-content/uploads/2022/11/1138848-300x300-1.png
END:VEVENT
BEGIN:VEVENT
DTSTART;TZID=America/Detroit:20270901T170000
DTEND;TZID=America/Detroit:20270901T200000
DTSTAMP:20260423T193634
CREATED:20240217T012756Z
LAST-MODIFIED:20240217T012757Z
UID:10002740-1819818000-1819828800@mumsarcade.com
SUMMARY:Open to the Public
DESCRIPTION:Open to the public Wednesdays 5-8pm: unlimited pinball & arcade play (no quarters needed!) \n“Almost half price” $8 per person\, plus Food Truck Wednesdays!
URL:https://mumsarcade.com/event/open-to-the-public-2/2027-09-01/
LOCATION:Mums Arcade\, 17738 Mack Ave\, Grosse Pointe\, MI\, 48230\, United States
CATEGORIES:Public Play
ATTACH;FMTTYPE=image/png:https://mumsarcade.com/wp-content/uploads/2022/11/1138848-300x300-1.png
END:VEVENT
BEGIN:VEVENT
DTSTART;TZID=America/Detroit:20270908T170000
DTEND;TZID=America/Detroit:20270908T200000
DTSTAMP:20260423T193634
CREATED:20240217T012756Z
LAST-MODIFIED:20240217T012757Z
UID:10002741-1820422800-1820433600@mumsarcade.com
SUMMARY:Open to the Public
DESCRIPTION:Open to the public Wednesdays 5-8pm: unlimited pinball & arcade play (no quarters needed!) \n“Almost half price” $8 per person\, plus Food Truck Wednesdays!
URL:https://mumsarcade.com/event/open-to-the-public-2/2027-09-08/
LOCATION:Mums Arcade\, 17738 Mack Ave\, Grosse Pointe\, MI\, 48230\, United States
CATEGORIES:Public Play
ATTACH;FMTTYPE=image/png:https://mumsarcade.com/wp-content/uploads/2022/11/1138848-300x300-1.png
END:VEVENT
BEGIN:VEVENT
DTSTART;TZID=America/Detroit:20270915T170000
DTEND;TZID=America/Detroit:20270915T200000
DTSTAMP:20260423T193634
CREATED:20240217T012756Z
LAST-MODIFIED:20240217T012757Z
UID:10002742-1821027600-1821038400@mumsarcade.com
SUMMARY:Open to the Public
DESCRIPTION:Open to the public Wednesdays 5-8pm: unlimited pinball & arcade play (no quarters needed!) \n“Almost half price” $8 per person\, plus Food Truck Wednesdays!
URL:https://mumsarcade.com/event/open-to-the-public-2/2027-09-15/
LOCATION:Mums Arcade\, 17738 Mack Ave\, Grosse Pointe\, MI\, 48230\, United States
CATEGORIES:Public Play
ATTACH;FMTTYPE=image/png:https://mumsarcade.com/wp-content/uploads/2022/11/1138848-300x300-1.png
END:VEVENT
BEGIN:VEVENT
DTSTART;TZID=America/Detroit:20270922T170000
DTEND;TZID=America/Detroit:20270922T200000
DTSTAMP:20260423T193634
CREATED:20240217T012756Z
LAST-MODIFIED:20240217T012757Z
UID:10002743-1821632400-1821643200@mumsarcade.com
SUMMARY:Open to the Public
DESCRIPTION:Open to the public Wednesdays 5-8pm: unlimited pinball & arcade play (no quarters needed!) \n“Almost half price” $8 per person\, plus Food Truck Wednesdays!
URL:https://mumsarcade.com/event/open-to-the-public-2/2027-09-22/
LOCATION:Mums Arcade\, 17738 Mack Ave\, Grosse Pointe\, MI\, 48230\, United States
CATEGORIES:Public Play
ATTACH;FMTTYPE=image/png:https://mumsarcade.com/wp-content/uploads/2022/11/1138848-300x300-1.png
END:VEVENT
BEGIN:VEVENT
DTSTART;TZID=America/Detroit:20270929T170000
DTEND;TZID=America/Detroit:20270929T200000
DTSTAMP:20260423T193634
CREATED:20240217T012756Z
LAST-MODIFIED:20240217T012757Z
UID:10002744-1822237200-1822248000@mumsarcade.com
SUMMARY:Open to the Public
DESCRIPTION:Open to the public Wednesdays 5-8pm: unlimited pinball & arcade play (no quarters needed!) \n“Almost half price” $8 per person\, plus Food Truck Wednesdays!
URL:https://mumsarcade.com/event/open-to-the-public-2/2027-09-29/
LOCATION:Mums Arcade\, 17738 Mack Ave\, Grosse Pointe\, MI\, 48230\, United States
CATEGORIES:Public Play
ATTACH;FMTTYPE=image/png:https://mumsarcade.com/wp-content/uploads/2022/11/1138848-300x300-1.png
END:VEVENT
BEGIN:VEVENT
DTSTART;TZID=America/Detroit:20271006T170000
DTEND;TZID=America/Detroit:20271006T200000
DTSTAMP:20260423T193634
CREATED:20240217T012756Z
LAST-MODIFIED:20240217T012757Z
UID:10002745-1822842000-1822852800@mumsarcade.com
SUMMARY:Open to the Public
DESCRIPTION:Open to the public Wednesdays 5-8pm: unlimited pinball & arcade play (no quarters needed!) \n“Almost half price” $8 per person\, plus Food Truck Wednesdays!
URL:https://mumsarcade.com/event/open-to-the-public-2/2027-10-06/
LOCATION:Mums Arcade\, 17738 Mack Ave\, Grosse Pointe\, MI\, 48230\, United States
CATEGORIES:Public Play
ATTACH;FMTTYPE=image/png:https://mumsarcade.com/wp-content/uploads/2022/11/1138848-300x300-1.png
END:VEVENT
END:VCALENDAR