BEGIN:VCALENDAR
VERSION:2.0
PRODID:-//Mums Arcade - ECPv6.15.20//NONSGML v1.0//EN
CALSCALE:GREGORIAN
METHOD:PUBLISH
X-WR-CALNAME:Mums Arcade
X-ORIGINAL-URL:https://mumsarcade.com
X-WR-CALDESC:Events for Mums Arcade
REFRESH-INTERVAL;VALUE=DURATION:PT1H
X-Robots-Tag:noindex
X-PUBLISHED-TTL:PT1H
BEGIN:VTIMEZONE
TZID:America/Detroit
BEGIN:DAYLIGHT
TZOFFSETFROM:-0500
TZOFFSETTO:-0400
TZNAME:EDT
DTSTART:20230312T070000
END:DAYLIGHT
BEGIN:STANDARD
TZOFFSETFROM:-0400
TZOFFSETTO:-0500
TZNAME:EST
DTSTART:20231105T060000
END:STANDARD
BEGIN:DAYLIGHT
TZOFFSETFROM:-0500
TZOFFSETTO:-0400
TZNAME:EDT
DTSTART:20240310T070000
END:DAYLIGHT
BEGIN:STANDARD
TZOFFSETFROM:-0400
TZOFFSETTO:-0500
TZNAME:EST
DTSTART:20241103T060000
END:STANDARD
BEGIN:DAYLIGHT
TZOFFSETFROM:-0500
TZOFFSETTO:-0400
TZNAME:EDT
DTSTART:20250309T070000
END:DAYLIGHT
BEGIN:STANDARD
TZOFFSETFROM:-0400
TZOFFSETTO:-0500
TZNAME:EST
DTSTART:20251102T060000
END:STANDARD
BEGIN:DAYLIGHT
TZOFFSETFROM:-0500
TZOFFSETTO:-0400
TZNAME:EDT
DTSTART:20260308T070000
END:DAYLIGHT
BEGIN:STANDARD
TZOFFSETFROM:-0400
TZOFFSETTO:-0500
TZNAME:EST
DTSTART:20261101T060000
END:STANDARD
END:VTIMEZONE
BEGIN:VEVENT
DTSTART;TZID=America/Detroit:20250409T170000
DTEND;TZID=America/Detroit:20250409T200000
DTSTAMP:20260423T191112
CREATED:20240217T012756Z
LAST-MODIFIED:20240217T012757Z
UID:10002615-1744218000-1744228800@mumsarcade.com
SUMMARY:Open to the Public
DESCRIPTION:Open to the public Wednesdays 5-8pm: unlimited pinball & arcade play (no quarters needed!) \n“Almost half price” $8 per person\, plus Food Truck Wednesdays!
URL:https://mumsarcade.com/event/open-to-the-public-2/2025-04-09/
LOCATION:Mums Arcade\, 17738 Mack Ave\, Grosse Pointe\, MI\, 48230\, United States
CATEGORIES:Public Play
ATTACH;FMTTYPE=image/png:https://mumsarcade.com/wp-content/uploads/2022/11/1138848-300x300-1.png
END:VEVENT
BEGIN:VEVENT
DTSTART;TZID=America/Detroit:20250402T170000
DTEND;TZID=America/Detroit:20250402T200000
DTSTAMP:20260423T191112
CREATED:20240217T012756Z
LAST-MODIFIED:20240217T012757Z
UID:10002614-1743613200-1743624000@mumsarcade.com
SUMMARY:Open to the Public
DESCRIPTION:Open to the public Wednesdays 5-8pm: unlimited pinball & arcade play (no quarters needed!) \n“Almost half price” $8 per person\, plus Food Truck Wednesdays!
URL:https://mumsarcade.com/event/open-to-the-public-2/2025-04-02/
LOCATION:Mums Arcade\, 17738 Mack Ave\, Grosse Pointe\, MI\, 48230\, United States
CATEGORIES:Public Play
ATTACH;FMTTYPE=image/png:https://mumsarcade.com/wp-content/uploads/2022/11/1138848-300x300-1.png
END:VEVENT
BEGIN:VEVENT
DTSTART;TZID=America/Detroit:20250326T170000
DTEND;TZID=America/Detroit:20250326T200000
DTSTAMP:20260423T191112
CREATED:20240217T012756Z
LAST-MODIFIED:20240217T012757Z
UID:10002613-1743008400-1743019200@mumsarcade.com
SUMMARY:Open to the Public
DESCRIPTION:Open to the public Wednesdays 5-8pm: unlimited pinball & arcade play (no quarters needed!) \n“Almost half price” $8 per person\, plus Food Truck Wednesdays!
URL:https://mumsarcade.com/event/open-to-the-public-2/2025-03-26/
LOCATION:Mums Arcade\, 17738 Mack Ave\, Grosse Pointe\, MI\, 48230\, United States
CATEGORIES:Public Play
ATTACH;FMTTYPE=image/png:https://mumsarcade.com/wp-content/uploads/2022/11/1138848-300x300-1.png
END:VEVENT
BEGIN:VEVENT
DTSTART;TZID=America/Detroit:20250319T170000
DTEND;TZID=America/Detroit:20250319T200000
DTSTAMP:20260423T191112
CREATED:20240217T012756Z
LAST-MODIFIED:20240217T012757Z
UID:10002612-1742403600-1742414400@mumsarcade.com
SUMMARY:Open to the Public
DESCRIPTION:Open to the public Wednesdays 5-8pm: unlimited pinball & arcade play (no quarters needed!) \n“Almost half price” $8 per person\, plus Food Truck Wednesdays!
URL:https://mumsarcade.com/event/open-to-the-public-2/2025-03-19/
LOCATION:Mums Arcade\, 17738 Mack Ave\, Grosse Pointe\, MI\, 48230\, United States
CATEGORIES:Public Play
ATTACH;FMTTYPE=image/png:https://mumsarcade.com/wp-content/uploads/2022/11/1138848-300x300-1.png
END:VEVENT
BEGIN:VEVENT
DTSTART;TZID=America/Detroit:20250312T170000
DTEND;TZID=America/Detroit:20250312T200000
DTSTAMP:20260423T191112
CREATED:20240217T012756Z
LAST-MODIFIED:20240217T012757Z
UID:10002611-1741798800-1741809600@mumsarcade.com
SUMMARY:Open to the Public
DESCRIPTION:Open to the public Wednesdays 5-8pm: unlimited pinball & arcade play (no quarters needed!) \n“Almost half price” $8 per person\, plus Food Truck Wednesdays!
URL:https://mumsarcade.com/event/open-to-the-public-2/2025-03-12/
LOCATION:Mums Arcade\, 17738 Mack Ave\, Grosse Pointe\, MI\, 48230\, United States
CATEGORIES:Public Play
ATTACH;FMTTYPE=image/png:https://mumsarcade.com/wp-content/uploads/2022/11/1138848-300x300-1.png
END:VEVENT
BEGIN:VEVENT
DTSTART;TZID=America/Detroit:20250305T170000
DTEND;TZID=America/Detroit:20250305T200000
DTSTAMP:20260423T191112
CREATED:20240217T012756Z
LAST-MODIFIED:20240217T012757Z
UID:10002610-1741194000-1741204800@mumsarcade.com
SUMMARY:Open to the Public
DESCRIPTION:Open to the public Wednesdays 5-8pm: unlimited pinball & arcade play (no quarters needed!) \n“Almost half price” $8 per person\, plus Food Truck Wednesdays!
URL:https://mumsarcade.com/event/open-to-the-public-2/2025-03-05/
LOCATION:Mums Arcade\, 17738 Mack Ave\, Grosse Pointe\, MI\, 48230\, United States
CATEGORIES:Public Play
ATTACH;FMTTYPE=image/png:https://mumsarcade.com/wp-content/uploads/2022/11/1138848-300x300-1.png
END:VEVENT
BEGIN:VEVENT
DTSTART;TZID=America/Detroit:20250226T170000
DTEND;TZID=America/Detroit:20250226T200000
DTSTAMP:20260423T191112
CREATED:20240217T012756Z
LAST-MODIFIED:20240217T012757Z
UID:10002609-1740589200-1740600000@mumsarcade.com
SUMMARY:Open to the Public
DESCRIPTION:Open to the public Wednesdays 5-8pm: unlimited pinball & arcade play (no quarters needed!) \n“Almost half price” $8 per person\, plus Food Truck Wednesdays!
URL:https://mumsarcade.com/event/open-to-the-public-2/2025-02-26/
LOCATION:Mums Arcade\, 17738 Mack Ave\, Grosse Pointe\, MI\, 48230\, United States
CATEGORIES:Public Play
ATTACH;FMTTYPE=image/png:https://mumsarcade.com/wp-content/uploads/2022/11/1138848-300x300-1.png
END:VEVENT
BEGIN:VEVENT
DTSTART;TZID=America/Detroit:20250219T170000
DTEND;TZID=America/Detroit:20250219T200000
DTSTAMP:20260423T191112
CREATED:20240217T012756Z
LAST-MODIFIED:20240217T012757Z
UID:10002608-1739984400-1739995200@mumsarcade.com
SUMMARY:Open to the Public
DESCRIPTION:Open to the public Wednesdays 5-8pm: unlimited pinball & arcade play (no quarters needed!) \n“Almost half price” $8 per person\, plus Food Truck Wednesdays!
URL:https://mumsarcade.com/event/open-to-the-public-2/2025-02-19/
LOCATION:Mums Arcade\, 17738 Mack Ave\, Grosse Pointe\, MI\, 48230\, United States
CATEGORIES:Public Play
ATTACH;FMTTYPE=image/png:https://mumsarcade.com/wp-content/uploads/2022/11/1138848-300x300-1.png
END:VEVENT
BEGIN:VEVENT
DTSTART;TZID=America/Detroit:20250212T170000
DTEND;TZID=America/Detroit:20250212T200000
DTSTAMP:20260423T191112
CREATED:20240217T012756Z
LAST-MODIFIED:20240217T012757Z
UID:10002607-1739379600-1739390400@mumsarcade.com
SUMMARY:Open to the Public
DESCRIPTION:Open to the public Wednesdays 5-8pm: unlimited pinball & arcade play (no quarters needed!) \n“Almost half price” $8 per person\, plus Food Truck Wednesdays!
URL:https://mumsarcade.com/event/open-to-the-public-2/2025-02-12/
LOCATION:Mums Arcade\, 17738 Mack Ave\, Grosse Pointe\, MI\, 48230\, United States
CATEGORIES:Public Play
ATTACH;FMTTYPE=image/png:https://mumsarcade.com/wp-content/uploads/2022/11/1138848-300x300-1.png
END:VEVENT
BEGIN:VEVENT
DTSTART;TZID=America/Detroit:20250205T170000
DTEND;TZID=America/Detroit:20250205T200000
DTSTAMP:20260423T191112
CREATED:20240217T012756Z
LAST-MODIFIED:20240217T012757Z
UID:10002606-1738774800-1738785600@mumsarcade.com
SUMMARY:Open to the Public
DESCRIPTION:Open to the public Wednesdays 5-8pm: unlimited pinball & arcade play (no quarters needed!) \n“Almost half price” $8 per person\, plus Food Truck Wednesdays!
URL:https://mumsarcade.com/event/open-to-the-public-2/2025-02-05/
LOCATION:Mums Arcade\, 17738 Mack Ave\, Grosse Pointe\, MI\, 48230\, United States
CATEGORIES:Public Play
ATTACH;FMTTYPE=image/png:https://mumsarcade.com/wp-content/uploads/2022/11/1138848-300x300-1.png
END:VEVENT
BEGIN:VEVENT
DTSTART;TZID=America/Detroit:20250129T170000
DTEND;TZID=America/Detroit:20250129T200000
DTSTAMP:20260423T191112
CREATED:20240217T012756Z
LAST-MODIFIED:20240217T012757Z
UID:10002605-1738170000-1738180800@mumsarcade.com
SUMMARY:Open to the Public
DESCRIPTION:Open to the public Wednesdays 5-8pm: unlimited pinball & arcade play (no quarters needed!) \n“Almost half price” $8 per person\, plus Food Truck Wednesdays!
URL:https://mumsarcade.com/event/open-to-the-public-2/2025-01-29/
LOCATION:Mums Arcade\, 17738 Mack Ave\, Grosse Pointe\, MI\, 48230\, United States
CATEGORIES:Public Play
ATTACH;FMTTYPE=image/png:https://mumsarcade.com/wp-content/uploads/2022/11/1138848-300x300-1.png
END:VEVENT
BEGIN:VEVENT
DTSTART;TZID=America/Detroit:20250122T170000
DTEND;TZID=America/Detroit:20250122T200000
DTSTAMP:20260423T191112
CREATED:20240217T012756Z
LAST-MODIFIED:20240217T012757Z
UID:10002604-1737565200-1737576000@mumsarcade.com
SUMMARY:Open to the Public
DESCRIPTION:Open to the public Wednesdays 5-8pm: unlimited pinball & arcade play (no quarters needed!) \n“Almost half price” $8 per person\, plus Food Truck Wednesdays!
URL:https://mumsarcade.com/event/open-to-the-public-2/2025-01-22/
LOCATION:Mums Arcade\, 17738 Mack Ave\, Grosse Pointe\, MI\, 48230\, United States
CATEGORIES:Public Play
ATTACH;FMTTYPE=image/png:https://mumsarcade.com/wp-content/uploads/2022/11/1138848-300x300-1.png
END:VEVENT
BEGIN:VEVENT
DTSTART;TZID=America/Detroit:20250115T170000
DTEND;TZID=America/Detroit:20250115T200000
DTSTAMP:20260423T191112
CREATED:20240217T012756Z
LAST-MODIFIED:20240217T012757Z
UID:10002603-1736960400-1736971200@mumsarcade.com
SUMMARY:Open to the Public
DESCRIPTION:Open to the public Wednesdays 5-8pm: unlimited pinball & arcade play (no quarters needed!) \n“Almost half price” $8 per person\, plus Food Truck Wednesdays!
URL:https://mumsarcade.com/event/open-to-the-public-2/2025-01-15/
LOCATION:Mums Arcade\, 17738 Mack Ave\, Grosse Pointe\, MI\, 48230\, United States
CATEGORIES:Public Play
ATTACH;FMTTYPE=image/png:https://mumsarcade.com/wp-content/uploads/2022/11/1138848-300x300-1.png
END:VEVENT
BEGIN:VEVENT
DTSTART;TZID=America/Detroit:20250108T170000
DTEND;TZID=America/Detroit:20250108T200000
DTSTAMP:20260423T191112
CREATED:20240217T012756Z
LAST-MODIFIED:20240217T012757Z
UID:10002602-1736355600-1736366400@mumsarcade.com
SUMMARY:Open to the Public
DESCRIPTION:Open to the public Wednesdays 5-8pm: unlimited pinball & arcade play (no quarters needed!) \n“Almost half price” $8 per person\, plus Food Truck Wednesdays!
URL:https://mumsarcade.com/event/open-to-the-public-2/2025-01-08/
LOCATION:Mums Arcade\, 17738 Mack Ave\, Grosse Pointe\, MI\, 48230\, United States
CATEGORIES:Public Play
ATTACH;FMTTYPE=image/png:https://mumsarcade.com/wp-content/uploads/2022/11/1138848-300x300-1.png
END:VEVENT
BEGIN:VEVENT
DTSTART;TZID=America/Detroit:20250101T170000
DTEND;TZID=America/Detroit:20250101T200000
DTSTAMP:20260423T191112
CREATED:20240217T012756Z
LAST-MODIFIED:20240217T012757Z
UID:10002601-1735750800-1735761600@mumsarcade.com
SUMMARY:Open to the Public
DESCRIPTION:Open to the public Wednesdays 5-8pm: unlimited pinball & arcade play (no quarters needed!) \n“Almost half price” $8 per person\, plus Food Truck Wednesdays!
URL:https://mumsarcade.com/event/open-to-the-public-2/2025-01-01/
LOCATION:Mums Arcade\, 17738 Mack Ave\, Grosse Pointe\, MI\, 48230\, United States
CATEGORIES:Public Play
ATTACH;FMTTYPE=image/png:https://mumsarcade.com/wp-content/uploads/2022/11/1138848-300x300-1.png
END:VEVENT
BEGIN:VEVENT
DTSTART;TZID=America/Detroit:20241225T170000
DTEND;TZID=America/Detroit:20241225T200000
DTSTAMP:20260423T191112
CREATED:20240217T012756Z
LAST-MODIFIED:20240217T012757Z
UID:10002600-1735146000-1735156800@mumsarcade.com
SUMMARY:Open to the Public
DESCRIPTION:Open to the public Wednesdays 5-8pm: unlimited pinball & arcade play (no quarters needed!) \n“Almost half price” $8 per person\, plus Food Truck Wednesdays!
URL:https://mumsarcade.com/event/open-to-the-public-2/2024-12-25/
LOCATION:Mums Arcade\, 17738 Mack Ave\, Grosse Pointe\, MI\, 48230\, United States
CATEGORIES:Public Play
ATTACH;FMTTYPE=image/png:https://mumsarcade.com/wp-content/uploads/2022/11/1138848-300x300-1.png
END:VEVENT
BEGIN:VEVENT
DTSTART;TZID=America/Detroit:20241218T170000
DTEND;TZID=America/Detroit:20241218T200000
DTSTAMP:20260423T191112
CREATED:20240217T012756Z
LAST-MODIFIED:20240217T012757Z
UID:10002599-1734541200-1734552000@mumsarcade.com
SUMMARY:Open to the Public
DESCRIPTION:Open to the public Wednesdays 5-8pm: unlimited pinball & arcade play (no quarters needed!) \n“Almost half price” $8 per person\, plus Food Truck Wednesdays!
URL:https://mumsarcade.com/event/open-to-the-public-2/2024-12-18/
LOCATION:Mums Arcade\, 17738 Mack Ave\, Grosse Pointe\, MI\, 48230\, United States
CATEGORIES:Public Play
ATTACH;FMTTYPE=image/png:https://mumsarcade.com/wp-content/uploads/2022/11/1138848-300x300-1.png
END:VEVENT
BEGIN:VEVENT
DTSTART;TZID=America/Detroit:20241211T170000
DTEND;TZID=America/Detroit:20241211T200000
DTSTAMP:20260423T191112
CREATED:20240217T012756Z
LAST-MODIFIED:20240217T012757Z
UID:10002598-1733936400-1733947200@mumsarcade.com
SUMMARY:Open to the Public
DESCRIPTION:Open to the public Wednesdays 5-8pm: unlimited pinball & arcade play (no quarters needed!) \n“Almost half price” $8 per person\, plus Food Truck Wednesdays!
URL:https://mumsarcade.com/event/open-to-the-public-2/2024-12-11/
LOCATION:Mums Arcade\, 17738 Mack Ave\, Grosse Pointe\, MI\, 48230\, United States
CATEGORIES:Public Play
ATTACH;FMTTYPE=image/png:https://mumsarcade.com/wp-content/uploads/2022/11/1138848-300x300-1.png
END:VEVENT
BEGIN:VEVENT
DTSTART;TZID=America/Detroit:20241204T170000
DTEND;TZID=America/Detroit:20241204T200000
DTSTAMP:20260423T191112
CREATED:20240217T012756Z
LAST-MODIFIED:20240217T012757Z
UID:10002597-1733331600-1733342400@mumsarcade.com
SUMMARY:Open to the Public
DESCRIPTION:Open to the public Wednesdays 5-8pm: unlimited pinball & arcade play (no quarters needed!) \n“Almost half price” $8 per person\, plus Food Truck Wednesdays!
URL:https://mumsarcade.com/event/open-to-the-public-2/2024-12-04/
LOCATION:Mums Arcade\, 17738 Mack Ave\, Grosse Pointe\, MI\, 48230\, United States
CATEGORIES:Public Play
ATTACH;FMTTYPE=image/png:https://mumsarcade.com/wp-content/uploads/2022/11/1138848-300x300-1.png
END:VEVENT
BEGIN:VEVENT
DTSTART;TZID=America/Detroit:20241127T170000
DTEND;TZID=America/Detroit:20241127T200000
DTSTAMP:20260423T191112
CREATED:20240217T012756Z
LAST-MODIFIED:20240217T012757Z
UID:10002596-1732726800-1732737600@mumsarcade.com
SUMMARY:Open to the Public
DESCRIPTION:Open to the public Wednesdays 5-8pm: unlimited pinball & arcade play (no quarters needed!) \n“Almost half price” $8 per person\, plus Food Truck Wednesdays!
URL:https://mumsarcade.com/event/open-to-the-public-2/2024-11-27/
LOCATION:Mums Arcade\, 17738 Mack Ave\, Grosse Pointe\, MI\, 48230\, United States
CATEGORIES:Public Play
ATTACH;FMTTYPE=image/png:https://mumsarcade.com/wp-content/uploads/2022/11/1138848-300x300-1.png
END:VEVENT
BEGIN:VEVENT
DTSTART;TZID=America/Detroit:20241120T170000
DTEND;TZID=America/Detroit:20241120T200000
DTSTAMP:20260423T191112
CREATED:20240217T012756Z
LAST-MODIFIED:20240217T012757Z
UID:10002595-1732122000-1732132800@mumsarcade.com
SUMMARY:Open to the Public
DESCRIPTION:Open to the public Wednesdays 5-8pm: unlimited pinball & arcade play (no quarters needed!) \n“Almost half price” $8 per person\, plus Food Truck Wednesdays!
URL:https://mumsarcade.com/event/open-to-the-public-2/2024-11-20/
LOCATION:Mums Arcade\, 17738 Mack Ave\, Grosse Pointe\, MI\, 48230\, United States
CATEGORIES:Public Play
ATTACH;FMTTYPE=image/png:https://mumsarcade.com/wp-content/uploads/2022/11/1138848-300x300-1.png
END:VEVENT
BEGIN:VEVENT
DTSTART;TZID=America/Detroit:20241113T170000
DTEND;TZID=America/Detroit:20241113T200000
DTSTAMP:20260423T191112
CREATED:20240217T012756Z
LAST-MODIFIED:20240217T012757Z
UID:10002594-1731517200-1731528000@mumsarcade.com
SUMMARY:Open to the Public
DESCRIPTION:Open to the public Wednesdays 5-8pm: unlimited pinball & arcade play (no quarters needed!) \n“Almost half price” $8 per person\, plus Food Truck Wednesdays!
URL:https://mumsarcade.com/event/open-to-the-public-2/2024-11-13/
LOCATION:Mums Arcade\, 17738 Mack Ave\, Grosse Pointe\, MI\, 48230\, United States
CATEGORIES:Public Play
ATTACH;FMTTYPE=image/png:https://mumsarcade.com/wp-content/uploads/2022/11/1138848-300x300-1.png
END:VEVENT
BEGIN:VEVENT
DTSTART;TZID=America/Detroit:20241106T170000
DTEND;TZID=America/Detroit:20241106T200000
DTSTAMP:20260423T191112
CREATED:20240217T012756Z
LAST-MODIFIED:20240217T012757Z
UID:10002593-1730912400-1730923200@mumsarcade.com
SUMMARY:Open to the Public
DESCRIPTION:Open to the public Wednesdays 5-8pm: unlimited pinball & arcade play (no quarters needed!) \n“Almost half price” $8 per person\, plus Food Truck Wednesdays!
URL:https://mumsarcade.com/event/open-to-the-public-2/2024-11-06/
LOCATION:Mums Arcade\, 17738 Mack Ave\, Grosse Pointe\, MI\, 48230\, United States
CATEGORIES:Public Play
ATTACH;FMTTYPE=image/png:https://mumsarcade.com/wp-content/uploads/2022/11/1138848-300x300-1.png
END:VEVENT
BEGIN:VEVENT
DTSTART;TZID=America/Detroit:20241030T170000
DTEND;TZID=America/Detroit:20241030T200000
DTSTAMP:20260423T191112
CREATED:20240217T012756Z
LAST-MODIFIED:20240217T012757Z
UID:10002592-1730307600-1730318400@mumsarcade.com
SUMMARY:Open to the Public
DESCRIPTION:Open to the public Wednesdays 5-8pm: unlimited pinball & arcade play (no quarters needed!) \n“Almost half price” $8 per person\, plus Food Truck Wednesdays!
URL:https://mumsarcade.com/event/open-to-the-public-2/2024-10-30/
LOCATION:Mums Arcade\, 17738 Mack Ave\, Grosse Pointe\, MI\, 48230\, United States
CATEGORIES:Public Play
ATTACH;FMTTYPE=image/png:https://mumsarcade.com/wp-content/uploads/2022/11/1138848-300x300-1.png
END:VEVENT
BEGIN:VEVENT
DTSTART;TZID=America/Detroit:20241023T170000
DTEND;TZID=America/Detroit:20241023T200000
DTSTAMP:20260423T191112
CREATED:20240217T012756Z
LAST-MODIFIED:20240217T012757Z
UID:10002591-1729702800-1729713600@mumsarcade.com
SUMMARY:Open to the Public
DESCRIPTION:Open to the public Wednesdays 5-8pm: unlimited pinball & arcade play (no quarters needed!) \n“Almost half price” $8 per person\, plus Food Truck Wednesdays!
URL:https://mumsarcade.com/event/open-to-the-public-2/2024-10-23/
LOCATION:Mums Arcade\, 17738 Mack Ave\, Grosse Pointe\, MI\, 48230\, United States
CATEGORIES:Public Play
ATTACH;FMTTYPE=image/png:https://mumsarcade.com/wp-content/uploads/2022/11/1138848-300x300-1.png
END:VEVENT
BEGIN:VEVENT
DTSTART;TZID=America/Detroit:20241016T170000
DTEND;TZID=America/Detroit:20241016T200000
DTSTAMP:20260423T191112
CREATED:20240217T012756Z
LAST-MODIFIED:20240217T012757Z
UID:10002590-1729098000-1729108800@mumsarcade.com
SUMMARY:Open to the Public
DESCRIPTION:Open to the public Wednesdays 5-8pm: unlimited pinball & arcade play (no quarters needed!) \n“Almost half price” $8 per person\, plus Food Truck Wednesdays!
URL:https://mumsarcade.com/event/open-to-the-public-2/2024-10-16/
LOCATION:Mums Arcade\, 17738 Mack Ave\, Grosse Pointe\, MI\, 48230\, United States
CATEGORIES:Public Play
ATTACH;FMTTYPE=image/png:https://mumsarcade.com/wp-content/uploads/2022/11/1138848-300x300-1.png
END:VEVENT
BEGIN:VEVENT
DTSTART;TZID=America/Detroit:20241009T170000
DTEND;TZID=America/Detroit:20241009T200000
DTSTAMP:20260423T191112
CREATED:20240217T012756Z
LAST-MODIFIED:20240217T012757Z
UID:10002589-1728493200-1728504000@mumsarcade.com
SUMMARY:Open to the Public
DESCRIPTION:Open to the public Wednesdays 5-8pm: unlimited pinball & arcade play (no quarters needed!) \n“Almost half price” $8 per person\, plus Food Truck Wednesdays!
URL:https://mumsarcade.com/event/open-to-the-public-2/2024-10-09/
LOCATION:Mums Arcade\, 17738 Mack Ave\, Grosse Pointe\, MI\, 48230\, United States
CATEGORIES:Public Play
ATTACH;FMTTYPE=image/png:https://mumsarcade.com/wp-content/uploads/2022/11/1138848-300x300-1.png
END:VEVENT
BEGIN:VEVENT
DTSTART;TZID=America/Detroit:20241002T170000
DTEND;TZID=America/Detroit:20241002T200000
DTSTAMP:20260423T191112
CREATED:20240217T012756Z
LAST-MODIFIED:20240217T012757Z
UID:10002588-1727888400-1727899200@mumsarcade.com
SUMMARY:Open to the Public
DESCRIPTION:Open to the public Wednesdays 5-8pm: unlimited pinball & arcade play (no quarters needed!) \n“Almost half price” $8 per person\, plus Food Truck Wednesdays!
URL:https://mumsarcade.com/event/open-to-the-public-2/2024-10-02/
LOCATION:Mums Arcade\, 17738 Mack Ave\, Grosse Pointe\, MI\, 48230\, United States
CATEGORIES:Public Play
ATTACH;FMTTYPE=image/png:https://mumsarcade.com/wp-content/uploads/2022/11/1138848-300x300-1.png
END:VEVENT
BEGIN:VEVENT
DTSTART;TZID=America/Detroit:20240925T170000
DTEND;TZID=America/Detroit:20240925T200000
DTSTAMP:20260423T191112
CREATED:20240217T012756Z
LAST-MODIFIED:20240217T012757Z
UID:10002587-1727283600-1727294400@mumsarcade.com
SUMMARY:Open to the Public
DESCRIPTION:Open to the public Wednesdays 5-8pm: unlimited pinball & arcade play (no quarters needed!) \n“Almost half price” $8 per person\, plus Food Truck Wednesdays!
URL:https://mumsarcade.com/event/open-to-the-public-2/2024-09-25/
LOCATION:Mums Arcade\, 17738 Mack Ave\, Grosse Pointe\, MI\, 48230\, United States
CATEGORIES:Public Play
ATTACH;FMTTYPE=image/png:https://mumsarcade.com/wp-content/uploads/2022/11/1138848-300x300-1.png
END:VEVENT
BEGIN:VEVENT
DTSTART;TZID=America/Detroit:20240918T170000
DTEND;TZID=America/Detroit:20240918T200000
DTSTAMP:20260423T191112
CREATED:20240217T012756Z
LAST-MODIFIED:20240217T012757Z
UID:10002586-1726678800-1726689600@mumsarcade.com
SUMMARY:Open to the Public
DESCRIPTION:Open to the public Wednesdays 5-8pm: unlimited pinball & arcade play (no quarters needed!) \n“Almost half price” $8 per person\, plus Food Truck Wednesdays!
URL:https://mumsarcade.com/event/open-to-the-public-2/2024-09-18/
LOCATION:Mums Arcade\, 17738 Mack Ave\, Grosse Pointe\, MI\, 48230\, United States
CATEGORIES:Public Play
ATTACH;FMTTYPE=image/png:https://mumsarcade.com/wp-content/uploads/2022/11/1138848-300x300-1.png
END:VEVENT
END:VCALENDAR