BEGIN:VCALENDAR
VERSION:2.0
PRODID:-//Mums Arcade - ECPv6.15.20//NONSGML v1.0//EN
CALSCALE:GREGORIAN
METHOD:PUBLISH
X-WR-CALNAME:Mums Arcade
X-ORIGINAL-URL:https://mumsarcade.com
X-WR-CALDESC:Events for Mums Arcade
REFRESH-INTERVAL;VALUE=DURATION:PT1H
X-Robots-Tag:noindex
X-PUBLISHED-TTL:PT1H
BEGIN:VTIMEZONE
TZID:America/Detroit
BEGIN:DAYLIGHT
TZOFFSETFROM:-0500
TZOFFSETTO:-0400
TZNAME:EDT
DTSTART:20250309T070000
END:DAYLIGHT
BEGIN:STANDARD
TZOFFSETFROM:-0400
TZOFFSETTO:-0500
TZNAME:EST
DTSTART:20251102T060000
END:STANDARD
BEGIN:DAYLIGHT
TZOFFSETFROM:-0500
TZOFFSETTO:-0400
TZNAME:EDT
DTSTART:20260308T070000
END:DAYLIGHT
BEGIN:STANDARD
TZOFFSETFROM:-0400
TZOFFSETTO:-0500
TZNAME:EST
DTSTART:20261101T060000
END:STANDARD
BEGIN:DAYLIGHT
TZOFFSETFROM:-0500
TZOFFSETTO:-0400
TZNAME:EDT
DTSTART:20270314T070000
END:DAYLIGHT
BEGIN:STANDARD
TZOFFSETFROM:-0400
TZOFFSETTO:-0500
TZNAME:EST
DTSTART:20271107T060000
END:STANDARD
END:VTIMEZONE
BEGIN:VEVENT
DTSTART;TZID=America/Detroit:20260304T170000
DTEND;TZID=America/Detroit:20260304T200000
DTSTAMP:20260423T190617
CREATED:20240217T012756Z
LAST-MODIFIED:20240217T012757Z
UID:10002662-1772643600-1772654400@mumsarcade.com
SUMMARY:Open to the Public
DESCRIPTION:Open to the public Wednesdays 5-8pm: unlimited pinball & arcade play (no quarters needed!) \n“Almost half price” $8 per person\, plus Food Truck Wednesdays!
URL:https://mumsarcade.com/event/open-to-the-public-2/2026-03-04/
LOCATION:Mums Arcade\, 17738 Mack Ave\, Grosse Pointe\, MI\, 48230\, United States
CATEGORIES:Public Play
ATTACH;FMTTYPE=image/png:https://mumsarcade.com/wp-content/uploads/2022/11/1138848-300x300-1.png
END:VEVENT
BEGIN:VEVENT
DTSTART;TZID=America/Detroit:20260311T170000
DTEND;TZID=America/Detroit:20260311T200000
DTSTAMP:20260423T190617
CREATED:20240217T012756Z
LAST-MODIFIED:20240217T012757Z
UID:10002663-1773248400-1773259200@mumsarcade.com
SUMMARY:Open to the Public
DESCRIPTION:Open to the public Wednesdays 5-8pm: unlimited pinball & arcade play (no quarters needed!) \n“Almost half price” $8 per person\, plus Food Truck Wednesdays!
URL:https://mumsarcade.com/event/open-to-the-public-2/2026-03-11/
LOCATION:Mums Arcade\, 17738 Mack Ave\, Grosse Pointe\, MI\, 48230\, United States
CATEGORIES:Public Play
ATTACH;FMTTYPE=image/png:https://mumsarcade.com/wp-content/uploads/2022/11/1138848-300x300-1.png
END:VEVENT
BEGIN:VEVENT
DTSTART;TZID=America/Detroit:20260318T170000
DTEND;TZID=America/Detroit:20260318T200000
DTSTAMP:20260423T190617
CREATED:20240217T012756Z
LAST-MODIFIED:20240217T012757Z
UID:10002664-1773853200-1773864000@mumsarcade.com
SUMMARY:Open to the Public
DESCRIPTION:Open to the public Wednesdays 5-8pm: unlimited pinball & arcade play (no quarters needed!) \n“Almost half price” $8 per person\, plus Food Truck Wednesdays!
URL:https://mumsarcade.com/event/open-to-the-public-2/2026-03-18/
LOCATION:Mums Arcade\, 17738 Mack Ave\, Grosse Pointe\, MI\, 48230\, United States
CATEGORIES:Public Play
ATTACH;FMTTYPE=image/png:https://mumsarcade.com/wp-content/uploads/2022/11/1138848-300x300-1.png
END:VEVENT
BEGIN:VEVENT
DTSTART;TZID=America/Detroit:20260325T170000
DTEND;TZID=America/Detroit:20260325T200000
DTSTAMP:20260423T190617
CREATED:20240217T012756Z
LAST-MODIFIED:20240217T012757Z
UID:10002665-1774458000-1774468800@mumsarcade.com
SUMMARY:Open to the Public
DESCRIPTION:Open to the public Wednesdays 5-8pm: unlimited pinball & arcade play (no quarters needed!) \n“Almost half price” $8 per person\, plus Food Truck Wednesdays!
URL:https://mumsarcade.com/event/open-to-the-public-2/2026-03-25/
LOCATION:Mums Arcade\, 17738 Mack Ave\, Grosse Pointe\, MI\, 48230\, United States
CATEGORIES:Public Play
ATTACH;FMTTYPE=image/png:https://mumsarcade.com/wp-content/uploads/2022/11/1138848-300x300-1.png
END:VEVENT
BEGIN:VEVENT
DTSTART;TZID=America/Detroit:20260401T170000
DTEND;TZID=America/Detroit:20260401T200000
DTSTAMP:20260423T190617
CREATED:20240217T012756Z
LAST-MODIFIED:20240217T012757Z
UID:10002666-1775062800-1775073600@mumsarcade.com
SUMMARY:Open to the Public
DESCRIPTION:Open to the public Wednesdays 5-8pm: unlimited pinball & arcade play (no quarters needed!) \n“Almost half price” $8 per person\, plus Food Truck Wednesdays!
URL:https://mumsarcade.com/event/open-to-the-public-2/2026-04-01/
LOCATION:Mums Arcade\, 17738 Mack Ave\, Grosse Pointe\, MI\, 48230\, United States
CATEGORIES:Public Play
ATTACH;FMTTYPE=image/png:https://mumsarcade.com/wp-content/uploads/2022/11/1138848-300x300-1.png
END:VEVENT
BEGIN:VEVENT
DTSTART;TZID=America/Detroit:20260408T170000
DTEND;TZID=America/Detroit:20260408T200000
DTSTAMP:20260423T190617
CREATED:20240217T012756Z
LAST-MODIFIED:20240217T012757Z
UID:10002667-1775667600-1775678400@mumsarcade.com
SUMMARY:Open to the Public
DESCRIPTION:Open to the public Wednesdays 5-8pm: unlimited pinball & arcade play (no quarters needed!) \n“Almost half price” $8 per person\, plus Food Truck Wednesdays!
URL:https://mumsarcade.com/event/open-to-the-public-2/2026-04-08/
LOCATION:Mums Arcade\, 17738 Mack Ave\, Grosse Pointe\, MI\, 48230\, United States
CATEGORIES:Public Play
ATTACH;FMTTYPE=image/png:https://mumsarcade.com/wp-content/uploads/2022/11/1138848-300x300-1.png
END:VEVENT
BEGIN:VEVENT
DTSTART;TZID=America/Detroit:20260415T170000
DTEND;TZID=America/Detroit:20260415T200000
DTSTAMP:20260423T190617
CREATED:20240217T012756Z
LAST-MODIFIED:20240217T012757Z
UID:10002668-1776272400-1776283200@mumsarcade.com
SUMMARY:Open to the Public
DESCRIPTION:Open to the public Wednesdays 5-8pm: unlimited pinball & arcade play (no quarters needed!) \n“Almost half price” $8 per person\, plus Food Truck Wednesdays!
URL:https://mumsarcade.com/event/open-to-the-public-2/2026-04-15/
LOCATION:Mums Arcade\, 17738 Mack Ave\, Grosse Pointe\, MI\, 48230\, United States
CATEGORIES:Public Play
ATTACH;FMTTYPE=image/png:https://mumsarcade.com/wp-content/uploads/2022/11/1138848-300x300-1.png
END:VEVENT
BEGIN:VEVENT
DTSTART;TZID=America/Detroit:20260422T170000
DTEND;TZID=America/Detroit:20260422T200000
DTSTAMP:20260423T190617
CREATED:20240217T012756Z
LAST-MODIFIED:20240217T012757Z
UID:10002669-1776877200-1776888000@mumsarcade.com
SUMMARY:Open to the Public
DESCRIPTION:Open to the public Wednesdays 5-8pm: unlimited pinball & arcade play (no quarters needed!) \n“Almost half price” $8 per person\, plus Food Truck Wednesdays!
URL:https://mumsarcade.com/event/open-to-the-public-2/2026-04-22/
LOCATION:Mums Arcade\, 17738 Mack Ave\, Grosse Pointe\, MI\, 48230\, United States
CATEGORIES:Public Play
ATTACH;FMTTYPE=image/png:https://mumsarcade.com/wp-content/uploads/2022/11/1138848-300x300-1.png
END:VEVENT
BEGIN:VEVENT
DTSTART;TZID=America/Detroit:20260429T170000
DTEND;TZID=America/Detroit:20260429T200000
DTSTAMP:20260423T190617
CREATED:20240217T012756Z
LAST-MODIFIED:20240217T012757Z
UID:10002670-1777482000-1777492800@mumsarcade.com
SUMMARY:Open to the Public
DESCRIPTION:Open to the public Wednesdays 5-8pm: unlimited pinball & arcade play (no quarters needed!) \n“Almost half price” $8 per person\, plus Food Truck Wednesdays!
URL:https://mumsarcade.com/event/open-to-the-public-2/2026-04-29/
LOCATION:Mums Arcade\, 17738 Mack Ave\, Grosse Pointe\, MI\, 48230\, United States
CATEGORIES:Public Play
ATTACH;FMTTYPE=image/png:https://mumsarcade.com/wp-content/uploads/2022/11/1138848-300x300-1.png
END:VEVENT
BEGIN:VEVENT
DTSTART;TZID=America/Detroit:20260506T170000
DTEND;TZID=America/Detroit:20260506T200000
DTSTAMP:20260423T190617
CREATED:20240217T012756Z
LAST-MODIFIED:20240217T012757Z
UID:10002671-1778086800-1778097600@mumsarcade.com
SUMMARY:Open to the Public
DESCRIPTION:Open to the public Wednesdays 5-8pm: unlimited pinball & arcade play (no quarters needed!) \n“Almost half price” $8 per person\, plus Food Truck Wednesdays!
URL:https://mumsarcade.com/event/open-to-the-public-2/2026-05-06/
LOCATION:Mums Arcade\, 17738 Mack Ave\, Grosse Pointe\, MI\, 48230\, United States
CATEGORIES:Public Play
ATTACH;FMTTYPE=image/png:https://mumsarcade.com/wp-content/uploads/2022/11/1138848-300x300-1.png
END:VEVENT
BEGIN:VEVENT
DTSTART;TZID=America/Detroit:20260513T170000
DTEND;TZID=America/Detroit:20260513T200000
DTSTAMP:20260423T190617
CREATED:20240217T012756Z
LAST-MODIFIED:20240217T012757Z
UID:10002672-1778691600-1778702400@mumsarcade.com
SUMMARY:Open to the Public
DESCRIPTION:Open to the public Wednesdays 5-8pm: unlimited pinball & arcade play (no quarters needed!) \n“Almost half price” $8 per person\, plus Food Truck Wednesdays!
URL:https://mumsarcade.com/event/open-to-the-public-2/2026-05-13/
LOCATION:Mums Arcade\, 17738 Mack Ave\, Grosse Pointe\, MI\, 48230\, United States
CATEGORIES:Public Play
ATTACH;FMTTYPE=image/png:https://mumsarcade.com/wp-content/uploads/2022/11/1138848-300x300-1.png
END:VEVENT
BEGIN:VEVENT
DTSTART;TZID=America/Detroit:20260520T170000
DTEND;TZID=America/Detroit:20260520T200000
DTSTAMP:20260423T190617
CREATED:20240217T012756Z
LAST-MODIFIED:20240217T012757Z
UID:10002673-1779296400-1779307200@mumsarcade.com
SUMMARY:Open to the Public
DESCRIPTION:Open to the public Wednesdays 5-8pm: unlimited pinball & arcade play (no quarters needed!) \n“Almost half price” $8 per person\, plus Food Truck Wednesdays!
URL:https://mumsarcade.com/event/open-to-the-public-2/2026-05-20/
LOCATION:Mums Arcade\, 17738 Mack Ave\, Grosse Pointe\, MI\, 48230\, United States
CATEGORIES:Public Play
ATTACH;FMTTYPE=image/png:https://mumsarcade.com/wp-content/uploads/2022/11/1138848-300x300-1.png
END:VEVENT
BEGIN:VEVENT
DTSTART;TZID=America/Detroit:20260527T170000
DTEND;TZID=America/Detroit:20260527T200000
DTSTAMP:20260423T190617
CREATED:20240217T012756Z
LAST-MODIFIED:20240217T012757Z
UID:10002674-1779901200-1779912000@mumsarcade.com
SUMMARY:Open to the Public
DESCRIPTION:Open to the public Wednesdays 5-8pm: unlimited pinball & arcade play (no quarters needed!) \n“Almost half price” $8 per person\, plus Food Truck Wednesdays!
URL:https://mumsarcade.com/event/open-to-the-public-2/2026-05-27/
LOCATION:Mums Arcade\, 17738 Mack Ave\, Grosse Pointe\, MI\, 48230\, United States
CATEGORIES:Public Play
ATTACH;FMTTYPE=image/png:https://mumsarcade.com/wp-content/uploads/2022/11/1138848-300x300-1.png
END:VEVENT
BEGIN:VEVENT
DTSTART;TZID=America/Detroit:20260603T170000
DTEND;TZID=America/Detroit:20260603T200000
DTSTAMP:20260423T190617
CREATED:20240217T012756Z
LAST-MODIFIED:20240217T012757Z
UID:10002675-1780506000-1780516800@mumsarcade.com
SUMMARY:Open to the Public
DESCRIPTION:Open to the public Wednesdays 5-8pm: unlimited pinball & arcade play (no quarters needed!) \n“Almost half price” $8 per person\, plus Food Truck Wednesdays!
URL:https://mumsarcade.com/event/open-to-the-public-2/2026-06-03/
LOCATION:Mums Arcade\, 17738 Mack Ave\, Grosse Pointe\, MI\, 48230\, United States
CATEGORIES:Public Play
ATTACH;FMTTYPE=image/png:https://mumsarcade.com/wp-content/uploads/2022/11/1138848-300x300-1.png
END:VEVENT
BEGIN:VEVENT
DTSTART;TZID=America/Detroit:20260610T170000
DTEND;TZID=America/Detroit:20260610T200000
DTSTAMP:20260423T190617
CREATED:20240217T012756Z
LAST-MODIFIED:20240217T012757Z
UID:10002676-1781110800-1781121600@mumsarcade.com
SUMMARY:Open to the Public
DESCRIPTION:Open to the public Wednesdays 5-8pm: unlimited pinball & arcade play (no quarters needed!) \n“Almost half price” $8 per person\, plus Food Truck Wednesdays!
URL:https://mumsarcade.com/event/open-to-the-public-2/2026-06-10/
LOCATION:Mums Arcade\, 17738 Mack Ave\, Grosse Pointe\, MI\, 48230\, United States
CATEGORIES:Public Play
ATTACH;FMTTYPE=image/png:https://mumsarcade.com/wp-content/uploads/2022/11/1138848-300x300-1.png
END:VEVENT
BEGIN:VEVENT
DTSTART;TZID=America/Detroit:20260617T170000
DTEND;TZID=America/Detroit:20260617T200000
DTSTAMP:20260423T190617
CREATED:20240217T012756Z
LAST-MODIFIED:20240217T012757Z
UID:10002677-1781715600-1781726400@mumsarcade.com
SUMMARY:Open to the Public
DESCRIPTION:Open to the public Wednesdays 5-8pm: unlimited pinball & arcade play (no quarters needed!) \n“Almost half price” $8 per person\, plus Food Truck Wednesdays!
URL:https://mumsarcade.com/event/open-to-the-public-2/2026-06-17/
LOCATION:Mums Arcade\, 17738 Mack Ave\, Grosse Pointe\, MI\, 48230\, United States
CATEGORIES:Public Play
ATTACH;FMTTYPE=image/png:https://mumsarcade.com/wp-content/uploads/2022/11/1138848-300x300-1.png
END:VEVENT
BEGIN:VEVENT
DTSTART;TZID=America/Detroit:20260624T170000
DTEND;TZID=America/Detroit:20260624T200000
DTSTAMP:20260423T190617
CREATED:20240217T012756Z
LAST-MODIFIED:20240217T012757Z
UID:10002678-1782320400-1782331200@mumsarcade.com
SUMMARY:Open to the Public
DESCRIPTION:Open to the public Wednesdays 5-8pm: unlimited pinball & arcade play (no quarters needed!) \n“Almost half price” $8 per person\, plus Food Truck Wednesdays!
URL:https://mumsarcade.com/event/open-to-the-public-2/2026-06-24/
LOCATION:Mums Arcade\, 17738 Mack Ave\, Grosse Pointe\, MI\, 48230\, United States
CATEGORIES:Public Play
ATTACH;FMTTYPE=image/png:https://mumsarcade.com/wp-content/uploads/2022/11/1138848-300x300-1.png
END:VEVENT
BEGIN:VEVENT
DTSTART;TZID=America/Detroit:20260701T170000
DTEND;TZID=America/Detroit:20260701T200000
DTSTAMP:20260423T190617
CREATED:20240217T012756Z
LAST-MODIFIED:20240217T012757Z
UID:10002679-1782925200-1782936000@mumsarcade.com
SUMMARY:Open to the Public
DESCRIPTION:Open to the public Wednesdays 5-8pm: unlimited pinball & arcade play (no quarters needed!) \n“Almost half price” $8 per person\, plus Food Truck Wednesdays!
URL:https://mumsarcade.com/event/open-to-the-public-2/2026-07-01/
LOCATION:Mums Arcade\, 17738 Mack Ave\, Grosse Pointe\, MI\, 48230\, United States
CATEGORIES:Public Play
ATTACH;FMTTYPE=image/png:https://mumsarcade.com/wp-content/uploads/2022/11/1138848-300x300-1.png
END:VEVENT
BEGIN:VEVENT
DTSTART;TZID=America/Detroit:20260708T170000
DTEND;TZID=America/Detroit:20260708T200000
DTSTAMP:20260423T190617
CREATED:20240217T012756Z
LAST-MODIFIED:20240217T012757Z
UID:10002680-1783530000-1783540800@mumsarcade.com
SUMMARY:Open to the Public
DESCRIPTION:Open to the public Wednesdays 5-8pm: unlimited pinball & arcade play (no quarters needed!) \n“Almost half price” $8 per person\, plus Food Truck Wednesdays!
URL:https://mumsarcade.com/event/open-to-the-public-2/2026-07-08/
LOCATION:Mums Arcade\, 17738 Mack Ave\, Grosse Pointe\, MI\, 48230\, United States
CATEGORIES:Public Play
ATTACH;FMTTYPE=image/png:https://mumsarcade.com/wp-content/uploads/2022/11/1138848-300x300-1.png
END:VEVENT
BEGIN:VEVENT
DTSTART;TZID=America/Detroit:20260715T170000
DTEND;TZID=America/Detroit:20260715T200000
DTSTAMP:20260423T190617
CREATED:20240217T012756Z
LAST-MODIFIED:20240217T012757Z
UID:10002681-1784134800-1784145600@mumsarcade.com
SUMMARY:Open to the Public
DESCRIPTION:Open to the public Wednesdays 5-8pm: unlimited pinball & arcade play (no quarters needed!) \n“Almost half price” $8 per person\, plus Food Truck Wednesdays!
URL:https://mumsarcade.com/event/open-to-the-public-2/2026-07-15/
LOCATION:Mums Arcade\, 17738 Mack Ave\, Grosse Pointe\, MI\, 48230\, United States
CATEGORIES:Public Play
ATTACH;FMTTYPE=image/png:https://mumsarcade.com/wp-content/uploads/2022/11/1138848-300x300-1.png
END:VEVENT
BEGIN:VEVENT
DTSTART;TZID=America/Detroit:20260722T170000
DTEND;TZID=America/Detroit:20260722T200000
DTSTAMP:20260423T190617
CREATED:20240217T012756Z
LAST-MODIFIED:20240217T012757Z
UID:10002682-1784739600-1784750400@mumsarcade.com
SUMMARY:Open to the Public
DESCRIPTION:Open to the public Wednesdays 5-8pm: unlimited pinball & arcade play (no quarters needed!) \n“Almost half price” $8 per person\, plus Food Truck Wednesdays!
URL:https://mumsarcade.com/event/open-to-the-public-2/2026-07-22/
LOCATION:Mums Arcade\, 17738 Mack Ave\, Grosse Pointe\, MI\, 48230\, United States
CATEGORIES:Public Play
ATTACH;FMTTYPE=image/png:https://mumsarcade.com/wp-content/uploads/2022/11/1138848-300x300-1.png
END:VEVENT
BEGIN:VEVENT
DTSTART;TZID=America/Detroit:20260729T170000
DTEND;TZID=America/Detroit:20260729T200000
DTSTAMP:20260423T190617
CREATED:20240217T012756Z
LAST-MODIFIED:20240217T012757Z
UID:10002683-1785344400-1785355200@mumsarcade.com
SUMMARY:Open to the Public
DESCRIPTION:Open to the public Wednesdays 5-8pm: unlimited pinball & arcade play (no quarters needed!) \n“Almost half price” $8 per person\, plus Food Truck Wednesdays!
URL:https://mumsarcade.com/event/open-to-the-public-2/2026-07-29/
LOCATION:Mums Arcade\, 17738 Mack Ave\, Grosse Pointe\, MI\, 48230\, United States
CATEGORIES:Public Play
ATTACH;FMTTYPE=image/png:https://mumsarcade.com/wp-content/uploads/2022/11/1138848-300x300-1.png
END:VEVENT
BEGIN:VEVENT
DTSTART;TZID=America/Detroit:20260805T170000
DTEND;TZID=America/Detroit:20260805T200000
DTSTAMP:20260423T190617
CREATED:20240217T012756Z
LAST-MODIFIED:20240217T012757Z
UID:10002684-1785949200-1785960000@mumsarcade.com
SUMMARY:Open to the Public
DESCRIPTION:Open to the public Wednesdays 5-8pm: unlimited pinball & arcade play (no quarters needed!) \n“Almost half price” $8 per person\, plus Food Truck Wednesdays!
URL:https://mumsarcade.com/event/open-to-the-public-2/2026-08-05/
LOCATION:Mums Arcade\, 17738 Mack Ave\, Grosse Pointe\, MI\, 48230\, United States
CATEGORIES:Public Play
ATTACH;FMTTYPE=image/png:https://mumsarcade.com/wp-content/uploads/2022/11/1138848-300x300-1.png
END:VEVENT
BEGIN:VEVENT
DTSTART;TZID=America/Detroit:20260812T170000
DTEND;TZID=America/Detroit:20260812T200000
DTSTAMP:20260423T190617
CREATED:20240217T012756Z
LAST-MODIFIED:20240217T012757Z
UID:10002685-1786554000-1786564800@mumsarcade.com
SUMMARY:Open to the Public
DESCRIPTION:Open to the public Wednesdays 5-8pm: unlimited pinball & arcade play (no quarters needed!) \n“Almost half price” $8 per person\, plus Food Truck Wednesdays!
URL:https://mumsarcade.com/event/open-to-the-public-2/2026-08-12/
LOCATION:Mums Arcade\, 17738 Mack Ave\, Grosse Pointe\, MI\, 48230\, United States
CATEGORIES:Public Play
ATTACH;FMTTYPE=image/png:https://mumsarcade.com/wp-content/uploads/2022/11/1138848-300x300-1.png
END:VEVENT
BEGIN:VEVENT
DTSTART;TZID=America/Detroit:20260819T170000
DTEND;TZID=America/Detroit:20260819T200000
DTSTAMP:20260423T190617
CREATED:20240217T012756Z
LAST-MODIFIED:20240217T012757Z
UID:10002686-1787158800-1787169600@mumsarcade.com
SUMMARY:Open to the Public
DESCRIPTION:Open to the public Wednesdays 5-8pm: unlimited pinball & arcade play (no quarters needed!) \n“Almost half price” $8 per person\, plus Food Truck Wednesdays!
URL:https://mumsarcade.com/event/open-to-the-public-2/2026-08-19/
LOCATION:Mums Arcade\, 17738 Mack Ave\, Grosse Pointe\, MI\, 48230\, United States
CATEGORIES:Public Play
ATTACH;FMTTYPE=image/png:https://mumsarcade.com/wp-content/uploads/2022/11/1138848-300x300-1.png
END:VEVENT
BEGIN:VEVENT
DTSTART;TZID=America/Detroit:20260826T170000
DTEND;TZID=America/Detroit:20260826T200000
DTSTAMP:20260423T190617
CREATED:20240217T012756Z
LAST-MODIFIED:20240217T012757Z
UID:10002687-1787763600-1787774400@mumsarcade.com
SUMMARY:Open to the Public
DESCRIPTION:Open to the public Wednesdays 5-8pm: unlimited pinball & arcade play (no quarters needed!) \n“Almost half price” $8 per person\, plus Food Truck Wednesdays!
URL:https://mumsarcade.com/event/open-to-the-public-2/2026-08-26/
LOCATION:Mums Arcade\, 17738 Mack Ave\, Grosse Pointe\, MI\, 48230\, United States
CATEGORIES:Public Play
ATTACH;FMTTYPE=image/png:https://mumsarcade.com/wp-content/uploads/2022/11/1138848-300x300-1.png
END:VEVENT
BEGIN:VEVENT
DTSTART;TZID=America/Detroit:20260902T170000
DTEND;TZID=America/Detroit:20260902T200000
DTSTAMP:20260423T190617
CREATED:20240217T012756Z
LAST-MODIFIED:20240217T012757Z
UID:10002688-1788368400-1788379200@mumsarcade.com
SUMMARY:Open to the Public
DESCRIPTION:Open to the public Wednesdays 5-8pm: unlimited pinball & arcade play (no quarters needed!) \n“Almost half price” $8 per person\, plus Food Truck Wednesdays!
URL:https://mumsarcade.com/event/open-to-the-public-2/2026-09-02/
LOCATION:Mums Arcade\, 17738 Mack Ave\, Grosse Pointe\, MI\, 48230\, United States
CATEGORIES:Public Play
ATTACH;FMTTYPE=image/png:https://mumsarcade.com/wp-content/uploads/2022/11/1138848-300x300-1.png
END:VEVENT
BEGIN:VEVENT
DTSTART;TZID=America/Detroit:20260909T170000
DTEND;TZID=America/Detroit:20260909T200000
DTSTAMP:20260423T190617
CREATED:20240217T012756Z
LAST-MODIFIED:20240217T012757Z
UID:10002689-1788973200-1788984000@mumsarcade.com
SUMMARY:Open to the Public
DESCRIPTION:Open to the public Wednesdays 5-8pm: unlimited pinball & arcade play (no quarters needed!) \n“Almost half price” $8 per person\, plus Food Truck Wednesdays!
URL:https://mumsarcade.com/event/open-to-the-public-2/2026-09-09/
LOCATION:Mums Arcade\, 17738 Mack Ave\, Grosse Pointe\, MI\, 48230\, United States
CATEGORIES:Public Play
ATTACH;FMTTYPE=image/png:https://mumsarcade.com/wp-content/uploads/2022/11/1138848-300x300-1.png
END:VEVENT
BEGIN:VEVENT
DTSTART;TZID=America/Detroit:20260916T170000
DTEND;TZID=America/Detroit:20260916T200000
DTSTAMP:20260423T190617
CREATED:20240217T012756Z
LAST-MODIFIED:20240217T012757Z
UID:10002690-1789578000-1789588800@mumsarcade.com
SUMMARY:Open to the Public
DESCRIPTION:Open to the public Wednesdays 5-8pm: unlimited pinball & arcade play (no quarters needed!) \n“Almost half price” $8 per person\, plus Food Truck Wednesdays!
URL:https://mumsarcade.com/event/open-to-the-public-2/2026-09-16/
LOCATION:Mums Arcade\, 17738 Mack Ave\, Grosse Pointe\, MI\, 48230\, United States
CATEGORIES:Public Play
ATTACH;FMTTYPE=image/png:https://mumsarcade.com/wp-content/uploads/2022/11/1138848-300x300-1.png
END:VEVENT
BEGIN:VEVENT
DTSTART;TZID=America/Detroit:20260923T170000
DTEND;TZID=America/Detroit:20260923T200000
DTSTAMP:20260423T190617
CREATED:20240217T012756Z
LAST-MODIFIED:20240217T012757Z
UID:10002691-1790182800-1790193600@mumsarcade.com
SUMMARY:Open to the Public
DESCRIPTION:Open to the public Wednesdays 5-8pm: unlimited pinball & arcade play (no quarters needed!) \n“Almost half price” $8 per person\, plus Food Truck Wednesdays!
URL:https://mumsarcade.com/event/open-to-the-public-2/2026-09-23/
LOCATION:Mums Arcade\, 17738 Mack Ave\, Grosse Pointe\, MI\, 48230\, United States
CATEGORIES:Public Play
ATTACH;FMTTYPE=image/png:https://mumsarcade.com/wp-content/uploads/2022/11/1138848-300x300-1.png
END:VEVENT
END:VCALENDAR