BEGIN:VCALENDAR
VERSION:2.0
PRODID:-//Mums Arcade - ECPv6.15.20//NONSGML v1.0//EN
CALSCALE:GREGORIAN
METHOD:PUBLISH
X-WR-CALNAME:Mums Arcade
X-ORIGINAL-URL:https://mumsarcade.com
X-WR-CALDESC:Events for Mums Arcade
REFRESH-INTERVAL;VALUE=DURATION:PT1H
X-Robots-Tag:noindex
X-PUBLISHED-TTL:PT1H
BEGIN:VTIMEZONE
TZID:America/Detroit
BEGIN:DAYLIGHT
TZOFFSETFROM:-0500
TZOFFSETTO:-0400
TZNAME:EDT
DTSTART:20220313T070000
END:DAYLIGHT
BEGIN:STANDARD
TZOFFSETFROM:-0400
TZOFFSETTO:-0500
TZNAME:EST
DTSTART:20221106T060000
END:STANDARD
BEGIN:DAYLIGHT
TZOFFSETFROM:-0500
TZOFFSETTO:-0400
TZNAME:EDT
DTSTART:20230312T070000
END:DAYLIGHT
BEGIN:STANDARD
TZOFFSETFROM:-0400
TZOFFSETTO:-0500
TZNAME:EST
DTSTART:20231105T060000
END:STANDARD
BEGIN:DAYLIGHT
TZOFFSETFROM:-0500
TZOFFSETTO:-0400
TZNAME:EDT
DTSTART:20240310T070000
END:DAYLIGHT
BEGIN:STANDARD
TZOFFSETFROM:-0400
TZOFFSETTO:-0500
TZNAME:EST
DTSTART:20241103T060000
END:STANDARD
END:VTIMEZONE
BEGIN:VEVENT
DTSTART;TZID=America/Detroit:20231129T170000
DTEND;TZID=America/Detroit:20231129T200000
DTSTAMP:20260424T122717
CREATED:20230914T210127Z
LAST-MODIFIED:20240217T012920Z
UID:10002544-1701277200-1701288000@mumsarcade.com
SUMMARY:Open to the Public
DESCRIPTION:Open to the public Wednesdays 5-8pm: unlimited pinball & arcade play (no quarters needed!) \n“Almost half price” $8 per person\, plus Food Truck Wednesdays!
URL:https://mumsarcade.com/event/open-to-the-public/2023-11-29/
LOCATION:Mums Arcade\, 17738 Mack Ave\, Grosse Pointe\, MI\, 48230\, United States
CATEGORIES:Public Play
ATTACH;FMTTYPE=image/png:https://mumsarcade.com/wp-content/uploads/2022/11/1138848-300x300-1.png
END:VEVENT
BEGIN:VEVENT
DTSTART;TZID=America/Detroit:20231122T170000
DTEND;TZID=America/Detroit:20231122T200000
DTSTAMP:20260424T122717
CREATED:20230914T210127Z
LAST-MODIFIED:20240217T012920Z
UID:10002543-1700672400-1700683200@mumsarcade.com
SUMMARY:Open to the Public
DESCRIPTION:Open to the public Wednesdays 5-8pm: unlimited pinball & arcade play (no quarters needed!) \n“Almost half price” $8 per person\, plus Food Truck Wednesdays!
URL:https://mumsarcade.com/event/open-to-the-public/2023-11-22/
LOCATION:Mums Arcade\, 17738 Mack Ave\, Grosse Pointe\, MI\, 48230\, United States
CATEGORIES:Public Play
ATTACH;FMTTYPE=image/png:https://mumsarcade.com/wp-content/uploads/2022/11/1138848-300x300-1.png
END:VEVENT
BEGIN:VEVENT
DTSTART;TZID=America/Detroit:20231115T170000
DTEND;TZID=America/Detroit:20231115T200000
DTSTAMP:20260424T122717
CREATED:20230914T210127Z
LAST-MODIFIED:20240217T012920Z
UID:10002542-1700067600-1700078400@mumsarcade.com
SUMMARY:Open to the Public
DESCRIPTION:Open to the public Wednesdays 5-8pm: unlimited pinball & arcade play (no quarters needed!) \n“Almost half price” $8 per person\, plus Food Truck Wednesdays!
URL:https://mumsarcade.com/event/open-to-the-public/2023-11-15/
LOCATION:Mums Arcade\, 17738 Mack Ave\, Grosse Pointe\, MI\, 48230\, United States
CATEGORIES:Public Play
ATTACH;FMTTYPE=image/png:https://mumsarcade.com/wp-content/uploads/2022/11/1138848-300x300-1.png
END:VEVENT
BEGIN:VEVENT
DTSTART;TZID=America/Detroit:20231108T170000
DTEND;TZID=America/Detroit:20231108T200000
DTSTAMP:20260424T122717
CREATED:20230914T210127Z
LAST-MODIFIED:20240217T012920Z
UID:10002541-1699462800-1699473600@mumsarcade.com
SUMMARY:Open to the Public
DESCRIPTION:Open to the public Wednesdays 5-8pm: unlimited pinball & arcade play (no quarters needed!) \n“Almost half price” $8 per person\, plus Food Truck Wednesdays!
URL:https://mumsarcade.com/event/open-to-the-public/2023-11-08/
LOCATION:Mums Arcade\, 17738 Mack Ave\, Grosse Pointe\, MI\, 48230\, United States
CATEGORIES:Public Play
ATTACH;FMTTYPE=image/png:https://mumsarcade.com/wp-content/uploads/2022/11/1138848-300x300-1.png
END:VEVENT
BEGIN:VEVENT
DTSTART;TZID=America/Detroit:20231101T170000
DTEND;TZID=America/Detroit:20231101T200000
DTSTAMP:20260424T122717
CREATED:20230914T210127Z
LAST-MODIFIED:20240217T012920Z
UID:10002540-1698858000-1698868800@mumsarcade.com
SUMMARY:Open to the Public
DESCRIPTION:Open to the public Wednesdays 5-8pm: unlimited pinball & arcade play (no quarters needed!) \n“Almost half price” $8 per person\, plus Food Truck Wednesdays!
URL:https://mumsarcade.com/event/open-to-the-public/2023-11-01/
LOCATION:Mums Arcade\, 17738 Mack Ave\, Grosse Pointe\, MI\, 48230\, United States
CATEGORIES:Public Play
ATTACH;FMTTYPE=image/png:https://mumsarcade.com/wp-content/uploads/2022/11/1138848-300x300-1.png
END:VEVENT
BEGIN:VEVENT
DTSTART;TZID=America/Detroit:20231025T170000
DTEND;TZID=America/Detroit:20231025T200000
DTSTAMP:20260424T122717
CREATED:20230914T210127Z
LAST-MODIFIED:20240217T012920Z
UID:10002539-1698253200-1698264000@mumsarcade.com
SUMMARY:Open to the Public
DESCRIPTION:Open to the public Wednesdays 5-8pm: unlimited pinball & arcade play (no quarters needed!) \n“Almost half price” $8 per person\, plus Food Truck Wednesdays!
URL:https://mumsarcade.com/event/open-to-the-public/2023-10-25/
LOCATION:Mums Arcade\, 17738 Mack Ave\, Grosse Pointe\, MI\, 48230\, United States
CATEGORIES:Public Play
ATTACH;FMTTYPE=image/png:https://mumsarcade.com/wp-content/uploads/2022/11/1138848-300x300-1.png
END:VEVENT
BEGIN:VEVENT
DTSTART;TZID=America/Detroit:20231018T170000
DTEND;TZID=America/Detroit:20231018T200000
DTSTAMP:20260424T122717
CREATED:20230914T210127Z
LAST-MODIFIED:20240217T012920Z
UID:10002538-1697648400-1697659200@mumsarcade.com
SUMMARY:Open to the Public
DESCRIPTION:Open to the public Wednesdays 5-8pm: unlimited pinball & arcade play (no quarters needed!) \n“Almost half price” $8 per person\, plus Food Truck Wednesdays!
URL:https://mumsarcade.com/event/open-to-the-public/2023-10-18/
LOCATION:Mums Arcade\, 17738 Mack Ave\, Grosse Pointe\, MI\, 48230\, United States
CATEGORIES:Public Play
ATTACH;FMTTYPE=image/png:https://mumsarcade.com/wp-content/uploads/2022/11/1138848-300x300-1.png
END:VEVENT
BEGIN:VEVENT
DTSTART;TZID=America/Detroit:20231011T170000
DTEND;TZID=America/Detroit:20231011T200000
DTSTAMP:20260424T122717
CREATED:20230914T210127Z
LAST-MODIFIED:20240217T012920Z
UID:10002537-1697043600-1697054400@mumsarcade.com
SUMMARY:Open to the Public
DESCRIPTION:Open to the public Wednesdays 5-8pm: unlimited pinball & arcade play (no quarters needed!) \n“Almost half price” $8 per person\, plus Food Truck Wednesdays!
URL:https://mumsarcade.com/event/open-to-the-public/2023-10-11/
LOCATION:Mums Arcade\, 17738 Mack Ave\, Grosse Pointe\, MI\, 48230\, United States
CATEGORIES:Public Play
ATTACH;FMTTYPE=image/png:https://mumsarcade.com/wp-content/uploads/2022/11/1138848-300x300-1.png
END:VEVENT
BEGIN:VEVENT
DTSTART;TZID=America/Detroit:20231004T170000
DTEND;TZID=America/Detroit:20231004T200000
DTSTAMP:20260424T122717
CREATED:20230914T210127Z
LAST-MODIFIED:20240217T012920Z
UID:10002536-1696438800-1696449600@mumsarcade.com
SUMMARY:Open to the Public
DESCRIPTION:Open to the public Wednesdays 5-8pm: unlimited pinball & arcade play (no quarters needed!) \n“Almost half price” $8 per person\, plus Food Truck Wednesdays!
URL:https://mumsarcade.com/event/open-to-the-public/2023-10-04/
LOCATION:Mums Arcade\, 17738 Mack Ave\, Grosse Pointe\, MI\, 48230\, United States
CATEGORIES:Public Play
ATTACH;FMTTYPE=image/png:https://mumsarcade.com/wp-content/uploads/2022/11/1138848-300x300-1.png
END:VEVENT
BEGIN:VEVENT
DTSTART;TZID=America/Detroit:20230927T170000
DTEND;TZID=America/Detroit:20230927T200000
DTSTAMP:20260424T122717
CREATED:20230914T210127Z
LAST-MODIFIED:20240217T012920Z
UID:10002535-1695834000-1695844800@mumsarcade.com
SUMMARY:Open to the Public
DESCRIPTION:Open to the public Wednesdays 5-8pm: unlimited pinball & arcade play (no quarters needed!) \n“Almost half price” $8 per person\, plus Food Truck Wednesdays!
URL:https://mumsarcade.com/event/open-to-the-public/2023-09-27/
LOCATION:Mums Arcade\, 17738 Mack Ave\, Grosse Pointe\, MI\, 48230\, United States
CATEGORIES:Public Play
ATTACH;FMTTYPE=image/png:https://mumsarcade.com/wp-content/uploads/2022/11/1138848-300x300-1.png
END:VEVENT
BEGIN:VEVENT
DTSTART;TZID=America/Detroit:20230920T170000
DTEND;TZID=America/Detroit:20230920T200000
DTSTAMP:20260424T122717
CREATED:20230914T210127Z
LAST-MODIFIED:20240217T012920Z
UID:10002534-1695229200-1695240000@mumsarcade.com
SUMMARY:Open to the Public
DESCRIPTION:Open to the public Wednesdays 5-8pm: unlimited pinball & arcade play (no quarters needed!) \n“Almost half price” $8 per person\, plus Food Truck Wednesdays!
URL:https://mumsarcade.com/event/open-to-the-public/2023-09-20/
LOCATION:Mums Arcade\, 17738 Mack Ave\, Grosse Pointe\, MI\, 48230\, United States
CATEGORIES:Public Play
ATTACH;FMTTYPE=image/png:https://mumsarcade.com/wp-content/uploads/2022/11/1138848-300x300-1.png
END:VEVENT
BEGIN:VEVENT
DTSTART;TZID=America/Detroit:20230617T120000
DTEND;TZID=America/Detroit:20230617T150000
DTSTAMP:20260424T122717
CREATED:20230610T133336Z
LAST-MODIFIED:20230610T133336Z
UID:10002525-1687003200-1687014000@mumsarcade.com
SUMMARY:Sarah C
DESCRIPTION:
URL:https://mumsarcade.com/event/sarah-c/
LOCATION:Mums Arcade\, 17738 Mack Ave\, Grosse Pointe\, MI\, 48230\, United States
CATEGORIES:PRIVATE PARTY
END:VEVENT
BEGIN:VEVENT
DTSTART;TZID=America/Detroit:20230612T160000
DTEND;TZID=America/Detroit:20230612T190000
DTSTAMP:20260424T122717
CREATED:20230610T133240Z
LAST-MODIFIED:20230610T133240Z
UID:10002524-1686585600-1686596400@mumsarcade.com
SUMMARY:Elizabeth C
DESCRIPTION:
URL:https://mumsarcade.com/event/elizabeth-c/
LOCATION:Mums Arcade\, 17738 Mack Ave\, Grosse Pointe\, MI\, 48230\, United States
CATEGORIES:PRIVATE PARTY
END:VEVENT
BEGIN:VEVENT
DTSTART;TZID=America/Detroit:20230611T153000
DTEND;TZID=America/Detroit:20230611T183000
DTSTAMP:20260424T122717
CREATED:20230531T210057Z
LAST-MODIFIED:20230531T210057Z
UID:10002522-1686497400-1686508200@mumsarcade.com
SUMMARY:Nora E Private Party
DESCRIPTION:
URL:https://mumsarcade.com/event/nora-e-private-party/
LOCATION:Mums Arcade\, 17738 Mack Ave\, Grosse Pointe\, MI\, 48230\, United States
CATEGORIES:PRIVATE PARTY
END:VEVENT
BEGIN:VEVENT
DTSTART;TZID=America/Detroit:20230611T120000
DTEND;TZID=America/Detroit:20230611T150000
DTSTAMP:20260424T122717
CREATED:20230531T205949Z
LAST-MODIFIED:20230531T205949Z
UID:10002521-1686484800-1686495600@mumsarcade.com
SUMMARY:Ellen M Private Party
DESCRIPTION:
URL:https://mumsarcade.com/event/ellen-m-private-party-2/
LOCATION:Mums Arcade\, 17738 Mack Ave\, Grosse Pointe\, MI\, 48230\, United States
CATEGORIES:PRIVATE PARTY
END:VEVENT
BEGIN:VEVENT
DTSTART;TZID=America/Detroit:20230610T190000
DTEND;TZID=America/Detroit:20230610T220000
DTSTAMP:20260424T122717
CREATED:20230531T235756Z
LAST-MODIFIED:20230531T235756Z
UID:10002523-1686423600-1686434400@mumsarcade.com
SUMMARY:Alex K Private Party
DESCRIPTION:
URL:https://mumsarcade.com/event/alex-k-private-party/
LOCATION:Mums Arcade\, 17738 Mack Ave\, Grosse Pointe\, MI\, 48230\, United States
CATEGORIES:PRIVATE PARTY
END:VEVENT
BEGIN:VEVENT
DTSTART;TZID=America/Detroit:20230610T120000
DTEND;TZID=America/Detroit:20230610T150000
DTSTAMP:20260424T122717
CREATED:20230531T205833Z
LAST-MODIFIED:20230531T205833Z
UID:10002520-1686398400-1686409200@mumsarcade.com
SUMMARY:Bridget C Private Party
DESCRIPTION:
URL:https://mumsarcade.com/event/bridget-c-private-party/
LOCATION:Mums Arcade\, 17738 Mack Ave\, Grosse Pointe\, MI\, 48230\, United States
CATEGORIES:PRIVATE PARTY
END:VEVENT
BEGIN:VEVENT
DTSTART;TZID=America/Detroit:20230604T153000
DTEND;TZID=America/Detroit:20230604T183000
DTSTAMP:20260424T122717
CREATED:20230531T205632Z
LAST-MODIFIED:20230531T205632Z
UID:10002519-1685892600-1685903400@mumsarcade.com
SUMMARY:Dana M Private Party
DESCRIPTION:
URL:https://mumsarcade.com/event/dana-m-private-party/
LOCATION:Mums Arcade\, 17738 Mack Ave\, Grosse Pointe\, MI\, 48230\, United States
CATEGORIES:PRIVATE PARTY
END:VEVENT
BEGIN:VEVENT
DTSTART;TZID=America/Detroit:20230604T120000
DTEND;TZID=America/Detroit:20230604T150000
DTSTAMP:20260424T122717
CREATED:20230531T205354Z
LAST-MODIFIED:20230531T205504Z
UID:10002518-1685880000-1685890800@mumsarcade.com
SUMMARY:Buckman Private Party
DESCRIPTION:
URL:https://mumsarcade.com/event/ellen-m-private-party/
LOCATION:Mums Arcade\, 17738 Mack Ave\, Grosse Pointe\, MI\, 48230\, United States
CATEGORIES:PRIVATE PARTY
END:VEVENT
BEGIN:VEVENT
DTSTART;TZID=America/Detroit:20230603T153000
DTEND;TZID=America/Detroit:20230603T183000
DTSTAMP:20260424T122717
CREATED:20230531T205055Z
LAST-MODIFIED:20230531T205055Z
UID:10002517-1685806200-1685817000@mumsarcade.com
SUMMARY:Jeff M Private Party
DESCRIPTION:
URL:https://mumsarcade.com/event/jeff-m-private-party/
LOCATION:Mums Arcade\, 17738 Mack Ave\, Grosse Pointe\, MI\, 48230\, United States
CATEGORIES:PRIVATE PARTY
END:VEVENT
BEGIN:VEVENT
DTSTART;TZID=America/Detroit:20230603T120000
DTEND;TZID=America/Detroit:20230603T140000
DTSTAMP:20260424T122717
CREATED:20230531T204951Z
LAST-MODIFIED:20230531T204951Z
UID:10002516-1685793600-1685800800@mumsarcade.com
SUMMARY:Eddie B Private Party
DESCRIPTION:
URL:https://mumsarcade.com/event/eddie-b-private-party/
LOCATION:Mums Arcade\, 17738 Mack Ave\, Grosse Pointe\, MI\, 48230\, United States
CATEGORIES:PRIVATE PARTY
END:VEVENT
BEGIN:VEVENT
DTSTART;TZID=America/Detroit:20230602T180000
DTEND;TZID=America/Detroit:20230602T220000
DTSTAMP:20260424T122717
CREATED:20230531T204851Z
LAST-MODIFIED:20230531T204851Z
UID:10002515-1685728800-1685743200@mumsarcade.com
SUMMARY:Emma S Private Party
DESCRIPTION:
URL:https://mumsarcade.com/event/emma-s-private-party/
LOCATION:Mums Arcade\, 17738 Mack Ave\, Grosse Pointe\, MI\, 48230\, United States
CATEGORIES:PRIVATE PARTY
END:VEVENT
BEGIN:VEVENT
DTSTART;TZID=America/Detroit:20230408T150000
DTEND;TZID=America/Detroit:20230408T180000
DTSTAMP:20260424T122717
CREATED:20230105T232125Z
LAST-MODIFIED:20230105T232125Z
UID:10002500-1680966000-1680976800@mumsarcade.com
SUMMARY:Sanpere Private Party
DESCRIPTION:Includes Slot Cars
URL:https://mumsarcade.com/event/sanpere-private-party/
LOCATION:Mums Arcade\, 17738 Mack Ave\, Grosse Pointe\, MI\, 48230\, United States
CATEGORIES:PRIVATE PARTY
END:VEVENT
BEGIN:VEVENT
DTSTART;TZID=America/Detroit:20230319T153000
DTEND;TZID=America/Detroit:20230319T183000
DTSTAMP:20260424T122717
CREATED:20230207T163422Z
LAST-MODIFIED:20230207T163422Z
UID:10002513-1679239800-1679250600@mumsarcade.com
SUMMARY:Alexia Private Party
DESCRIPTION:
URL:https://mumsarcade.com/event/alexia-private-party/
LOCATION:Mums Arcade\, 17738 Mack Ave\, Grosse Pointe\, MI\, 48230\, United States
CATEGORIES:PRIVATE PARTY
END:VEVENT
BEGIN:VEVENT
DTSTART;TZID=America/Detroit:20230311T153000
DTEND;TZID=America/Detroit:20230311T183000
DTSTAMP:20260424T122717
CREATED:20230206T212444Z
LAST-MODIFIED:20230206T212444Z
UID:10002509-1678548600-1678559400@mumsarcade.com
SUMMARY:Bryan Private Party
DESCRIPTION:Gehlert brother in law 25-30 kids and adults bday party
URL:https://mumsarcade.com/event/bryan-private-party/
LOCATION:Mums Arcade\, 17738 Mack Ave\, Grosse Pointe\, MI\, 48230\, United States
CATEGORIES:PRIVATE PARTY
END:VEVENT
BEGIN:VEVENT
DTSTART;TZID=America/Detroit:20230308T160000
DTEND;TZID=America/Detroit:20230308T190000
DTSTAMP:20260424T122717
CREATED:20230105T232244Z
LAST-MODIFIED:20230105T232245Z
UID:10002501-1678291200-1678302000@mumsarcade.com
SUMMARY:Steenland Private Party
DESCRIPTION:
URL:https://mumsarcade.com/event/steenland-private-party/
LOCATION:Mums Arcade\, 17738 Mack Ave\, Grosse Pointe\, MI\, 48230\, United States
CATEGORIES:PRIVATE PARTY
END:VEVENT
BEGIN:VEVENT
DTSTART;TZID=America/Detroit:20230305T120000
DTEND;TZID=America/Detroit:20230305T150000
DTSTAMP:20260424T122718
CREATED:20230206T214703Z
LAST-MODIFIED:20230206T214703Z
UID:10002512-1678017600-1678028400@mumsarcade.com
SUMMARY:Lindsay O Private Party
DESCRIPTION:6 yo bday
URL:https://mumsarcade.com/event/lindsay-o-private-party/
LOCATION:Mums Arcade\, 17738 Mack Ave\, Grosse Pointe\, MI\, 48230\, United States
CATEGORIES:PRIVATE PARTY
END:VEVENT
BEGIN:VEVENT
DTSTART;TZID=America/Detroit:20230304T120000
DTEND;TZID=America/Detroit:20230304T150000
DTSTAMP:20260424T122718
CREATED:20230206T212700Z
LAST-MODIFIED:20230206T212700Z
UID:10002510-1677931200-1677942000@mumsarcade.com
SUMMARY:lees private party
DESCRIPTION:kids bday
URL:https://mumsarcade.com/event/lees-private-party/
LOCATION:Mums Arcade\, 17738 Mack Ave\, Grosse Pointe\, MI\, 48230\, United States
CATEGORIES:PRIVATE PARTY
END:VEVENT
BEGIN:VEVENT
DTSTART;TZID=America/Detroit:20230226T150000
DTEND;TZID=America/Detroit:20230226T190000
DTSTAMP:20260424T122718
CREATED:20230206T213220Z
LAST-MODIFIED:20230206T213220Z
UID:10002511-1677423600-1677438000@mumsarcade.com
SUMMARY:HEY....PRIVATE PARTY
DESCRIPTION:Todd VIP customer event 14 people
URL:https://mumsarcade.com/event/hey-private-party/
LOCATION:Mums Arcade\, 17738 Mack Ave\, Grosse Pointe\, MI\, 48230\, United States
CATEGORIES:PRIVATE PARTY
END:VEVENT
BEGIN:VEVENT
DTSTART;TZID=America/Detroit:20230212T150000
DTEND;TZID=America/Detroit:20230212T183000
DTSTAMP:20260424T122718
CREATED:20230202T222137Z
LAST-MODIFIED:20230202T222137Z
UID:10002507-1676214000-1676226600@mumsarcade.com
SUMMARY:Ellen Private Party
DESCRIPTION:Kids bday party 20 people with slot cars
URL:https://mumsarcade.com/event/ellen-private-party/
LOCATION:Mums Arcade\, 17738 Mack Ave\, Grosse Pointe\, MI\, 48230\, United States
CATEGORIES:PRIVATE PARTY
END:VEVENT
END:VCALENDAR