BEGIN:VCALENDAR
VERSION:2.0
PRODID:-//Mums Arcade - ECPv6.15.20//NONSGML v1.0//EN
CALSCALE:GREGORIAN
METHOD:PUBLISH
X-WR-CALNAME:Mums Arcade
X-ORIGINAL-URL:https://mumsarcade.com
X-WR-CALDESC:Events for Mums Arcade
REFRESH-INTERVAL;VALUE=DURATION:PT1H
X-Robots-Tag:noindex
X-PUBLISHED-TTL:PT1H
BEGIN:VTIMEZONE
TZID:America/Detroit
BEGIN:DAYLIGHT
TZOFFSETFROM:-0500
TZOFFSETTO:-0400
TZNAME:EDT
DTSTART:20240310T070000
END:DAYLIGHT
BEGIN:STANDARD
TZOFFSETFROM:-0400
TZOFFSETTO:-0500
TZNAME:EST
DTSTART:20241103T060000
END:STANDARD
BEGIN:DAYLIGHT
TZOFFSETFROM:-0500
TZOFFSETTO:-0400
TZNAME:EDT
DTSTART:20250309T070000
END:DAYLIGHT
BEGIN:STANDARD
TZOFFSETFROM:-0400
TZOFFSETTO:-0500
TZNAME:EST
DTSTART:20251102T060000
END:STANDARD
BEGIN:DAYLIGHT
TZOFFSETFROM:-0500
TZOFFSETTO:-0400
TZNAME:EDT
DTSTART:20260308T070000
END:DAYLIGHT
BEGIN:STANDARD
TZOFFSETFROM:-0400
TZOFFSETTO:-0500
TZNAME:EST
DTSTART:20261101T060000
END:STANDARD
BEGIN:DAYLIGHT
TZOFFSETFROM:-0500
TZOFFSETTO:-0400
TZNAME:EDT
DTSTART:20270314T070000
END:DAYLIGHT
BEGIN:STANDARD
TZOFFSETFROM:-0400
TZOFFSETTO:-0500
TZNAME:EST
DTSTART:20271107T060000
END:STANDARD
END:VTIMEZONE
BEGIN:VEVENT
DTSTART;TZID=America/Detroit:20260422T170000
DTEND;TZID=America/Detroit:20260422T200000
DTSTAMP:20260423T161657
CREATED:20240217T012756Z
LAST-MODIFIED:20240217T012757Z
UID:10002669-1776877200-1776888000@mumsarcade.com
SUMMARY:Open to the Public
DESCRIPTION:Open to the public Wednesdays 5-8pm: unlimited pinball & arcade play (no quarters needed!) \n“Almost half price” $8 per person\, plus Food Truck Wednesdays!
URL:https://mumsarcade.com/event/open-to-the-public-2/2026-04-22/
LOCATION:Mums Arcade\, 17738 Mack Ave\, Grosse Pointe\, MI\, 48230\, United States
CATEGORIES:Public Play
ATTACH;FMTTYPE=image/png:https://mumsarcade.com/wp-content/uploads/2022/11/1138848-300x300-1.png
END:VEVENT
BEGIN:VEVENT
DTSTART;TZID=America/Detroit:20260415T170000
DTEND;TZID=America/Detroit:20260415T200000
DTSTAMP:20260423T161657
CREATED:20240217T012756Z
LAST-MODIFIED:20240217T012757Z
UID:10002668-1776272400-1776283200@mumsarcade.com
SUMMARY:Open to the Public
DESCRIPTION:Open to the public Wednesdays 5-8pm: unlimited pinball & arcade play (no quarters needed!) \n“Almost half price” $8 per person\, plus Food Truck Wednesdays!
URL:https://mumsarcade.com/event/open-to-the-public-2/2026-04-15/
LOCATION:Mums Arcade\, 17738 Mack Ave\, Grosse Pointe\, MI\, 48230\, United States
CATEGORIES:Public Play
ATTACH;FMTTYPE=image/png:https://mumsarcade.com/wp-content/uploads/2022/11/1138848-300x300-1.png
END:VEVENT
BEGIN:VEVENT
DTSTART;TZID=America/Detroit:20260408T170000
DTEND;TZID=America/Detroit:20260408T200000
DTSTAMP:20260423T161657
CREATED:20240217T012756Z
LAST-MODIFIED:20240217T012757Z
UID:10002667-1775667600-1775678400@mumsarcade.com
SUMMARY:Open to the Public
DESCRIPTION:Open to the public Wednesdays 5-8pm: unlimited pinball & arcade play (no quarters needed!) \n“Almost half price” $8 per person\, plus Food Truck Wednesdays!
URL:https://mumsarcade.com/event/open-to-the-public-2/2026-04-08/
LOCATION:Mums Arcade\, 17738 Mack Ave\, Grosse Pointe\, MI\, 48230\, United States
CATEGORIES:Public Play
ATTACH;FMTTYPE=image/png:https://mumsarcade.com/wp-content/uploads/2022/11/1138848-300x300-1.png
END:VEVENT
BEGIN:VEVENT
DTSTART;TZID=America/Detroit:20260401T170000
DTEND;TZID=America/Detroit:20260401T200000
DTSTAMP:20260423T161657
CREATED:20240217T012756Z
LAST-MODIFIED:20240217T012757Z
UID:10002666-1775062800-1775073600@mumsarcade.com
SUMMARY:Open to the Public
DESCRIPTION:Open to the public Wednesdays 5-8pm: unlimited pinball & arcade play (no quarters needed!) \n“Almost half price” $8 per person\, plus Food Truck Wednesdays!
URL:https://mumsarcade.com/event/open-to-the-public-2/2026-04-01/
LOCATION:Mums Arcade\, 17738 Mack Ave\, Grosse Pointe\, MI\, 48230\, United States
CATEGORIES:Public Play
ATTACH;FMTTYPE=image/png:https://mumsarcade.com/wp-content/uploads/2022/11/1138848-300x300-1.png
END:VEVENT
BEGIN:VEVENT
DTSTART;TZID=America/Detroit:20260325T170000
DTEND;TZID=America/Detroit:20260325T200000
DTSTAMP:20260423T161657
CREATED:20240217T012756Z
LAST-MODIFIED:20240217T012757Z
UID:10002665-1774458000-1774468800@mumsarcade.com
SUMMARY:Open to the Public
DESCRIPTION:Open to the public Wednesdays 5-8pm: unlimited pinball & arcade play (no quarters needed!) \n“Almost half price” $8 per person\, plus Food Truck Wednesdays!
URL:https://mumsarcade.com/event/open-to-the-public-2/2026-03-25/
LOCATION:Mums Arcade\, 17738 Mack Ave\, Grosse Pointe\, MI\, 48230\, United States
CATEGORIES:Public Play
ATTACH;FMTTYPE=image/png:https://mumsarcade.com/wp-content/uploads/2022/11/1138848-300x300-1.png
END:VEVENT
BEGIN:VEVENT
DTSTART;TZID=America/Detroit:20260318T170000
DTEND;TZID=America/Detroit:20260318T200000
DTSTAMP:20260423T161657
CREATED:20240217T012756Z
LAST-MODIFIED:20240217T012757Z
UID:10002664-1773853200-1773864000@mumsarcade.com
SUMMARY:Open to the Public
DESCRIPTION:Open to the public Wednesdays 5-8pm: unlimited pinball & arcade play (no quarters needed!) \n“Almost half price” $8 per person\, plus Food Truck Wednesdays!
URL:https://mumsarcade.com/event/open-to-the-public-2/2026-03-18/
LOCATION:Mums Arcade\, 17738 Mack Ave\, Grosse Pointe\, MI\, 48230\, United States
CATEGORIES:Public Play
ATTACH;FMTTYPE=image/png:https://mumsarcade.com/wp-content/uploads/2022/11/1138848-300x300-1.png
END:VEVENT
BEGIN:VEVENT
DTSTART;TZID=America/Detroit:20260311T170000
DTEND;TZID=America/Detroit:20260311T200000
DTSTAMP:20260423T161657
CREATED:20240217T012756Z
LAST-MODIFIED:20240217T012757Z
UID:10002663-1773248400-1773259200@mumsarcade.com
SUMMARY:Open to the Public
DESCRIPTION:Open to the public Wednesdays 5-8pm: unlimited pinball & arcade play (no quarters needed!) \n“Almost half price” $8 per person\, plus Food Truck Wednesdays!
URL:https://mumsarcade.com/event/open-to-the-public-2/2026-03-11/
LOCATION:Mums Arcade\, 17738 Mack Ave\, Grosse Pointe\, MI\, 48230\, United States
CATEGORIES:Public Play
ATTACH;FMTTYPE=image/png:https://mumsarcade.com/wp-content/uploads/2022/11/1138848-300x300-1.png
END:VEVENT
BEGIN:VEVENT
DTSTART;TZID=America/Detroit:20260304T170000
DTEND;TZID=America/Detroit:20260304T200000
DTSTAMP:20260423T161657
CREATED:20240217T012756Z
LAST-MODIFIED:20240217T012757Z
UID:10002662-1772643600-1772654400@mumsarcade.com
SUMMARY:Open to the Public
DESCRIPTION:Open to the public Wednesdays 5-8pm: unlimited pinball & arcade play (no quarters needed!) \n“Almost half price” $8 per person\, plus Food Truck Wednesdays!
URL:https://mumsarcade.com/event/open-to-the-public-2/2026-03-04/
LOCATION:Mums Arcade\, 17738 Mack Ave\, Grosse Pointe\, MI\, 48230\, United States
CATEGORIES:Public Play
ATTACH;FMTTYPE=image/png:https://mumsarcade.com/wp-content/uploads/2022/11/1138848-300x300-1.png
END:VEVENT
BEGIN:VEVENT
DTSTART;TZID=America/Detroit:20260225T170000
DTEND;TZID=America/Detroit:20260225T200000
DTSTAMP:20260423T161657
CREATED:20240217T012756Z
LAST-MODIFIED:20240217T012757Z
UID:10002661-1772038800-1772049600@mumsarcade.com
SUMMARY:Open to the Public
DESCRIPTION:Open to the public Wednesdays 5-8pm: unlimited pinball & arcade play (no quarters needed!) \n“Almost half price” $8 per person\, plus Food Truck Wednesdays!
URL:https://mumsarcade.com/event/open-to-the-public-2/2026-02-25/
LOCATION:Mums Arcade\, 17738 Mack Ave\, Grosse Pointe\, MI\, 48230\, United States
CATEGORIES:Public Play
ATTACH;FMTTYPE=image/png:https://mumsarcade.com/wp-content/uploads/2022/11/1138848-300x300-1.png
END:VEVENT
BEGIN:VEVENT
DTSTART;TZID=America/Detroit:20260218T170000
DTEND;TZID=America/Detroit:20260218T200000
DTSTAMP:20260423T161657
CREATED:20240217T012756Z
LAST-MODIFIED:20240217T012757Z
UID:10002660-1771434000-1771444800@mumsarcade.com
SUMMARY:Open to the Public
DESCRIPTION:Open to the public Wednesdays 5-8pm: unlimited pinball & arcade play (no quarters needed!) \n“Almost half price” $8 per person\, plus Food Truck Wednesdays!
URL:https://mumsarcade.com/event/open-to-the-public-2/2026-02-18/
LOCATION:Mums Arcade\, 17738 Mack Ave\, Grosse Pointe\, MI\, 48230\, United States
CATEGORIES:Public Play
ATTACH;FMTTYPE=image/png:https://mumsarcade.com/wp-content/uploads/2022/11/1138848-300x300-1.png
END:VEVENT
BEGIN:VEVENT
DTSTART;TZID=America/Detroit:20260211T170000
DTEND;TZID=America/Detroit:20260211T200000
DTSTAMP:20260423T161657
CREATED:20240217T012756Z
LAST-MODIFIED:20240217T012757Z
UID:10002659-1770829200-1770840000@mumsarcade.com
SUMMARY:Open to the Public
DESCRIPTION:Open to the public Wednesdays 5-8pm: unlimited pinball & arcade play (no quarters needed!) \n“Almost half price” $8 per person\, plus Food Truck Wednesdays!
URL:https://mumsarcade.com/event/open-to-the-public-2/2026-02-11/
LOCATION:Mums Arcade\, 17738 Mack Ave\, Grosse Pointe\, MI\, 48230\, United States
CATEGORIES:Public Play
ATTACH;FMTTYPE=image/png:https://mumsarcade.com/wp-content/uploads/2022/11/1138848-300x300-1.png
END:VEVENT
BEGIN:VEVENT
DTSTART;TZID=America/Detroit:20260204T170000
DTEND;TZID=America/Detroit:20260204T200000
DTSTAMP:20260423T161657
CREATED:20240217T012756Z
LAST-MODIFIED:20240217T012757Z
UID:10002658-1770224400-1770235200@mumsarcade.com
SUMMARY:Open to the Public
DESCRIPTION:Open to the public Wednesdays 5-8pm: unlimited pinball & arcade play (no quarters needed!) \n“Almost half price” $8 per person\, plus Food Truck Wednesdays!
URL:https://mumsarcade.com/event/open-to-the-public-2/2026-02-04/
LOCATION:Mums Arcade\, 17738 Mack Ave\, Grosse Pointe\, MI\, 48230\, United States
CATEGORIES:Public Play
ATTACH;FMTTYPE=image/png:https://mumsarcade.com/wp-content/uploads/2022/11/1138848-300x300-1.png
END:VEVENT
BEGIN:VEVENT
DTSTART;TZID=America/Detroit:20260128T170000
DTEND;TZID=America/Detroit:20260128T200000
DTSTAMP:20260423T161657
CREATED:20240217T012756Z
LAST-MODIFIED:20240217T012757Z
UID:10002657-1769619600-1769630400@mumsarcade.com
SUMMARY:Open to the Public
DESCRIPTION:Open to the public Wednesdays 5-8pm: unlimited pinball & arcade play (no quarters needed!) \n“Almost half price” $8 per person\, plus Food Truck Wednesdays!
URL:https://mumsarcade.com/event/open-to-the-public-2/2026-01-28/
LOCATION:Mums Arcade\, 17738 Mack Ave\, Grosse Pointe\, MI\, 48230\, United States
CATEGORIES:Public Play
ATTACH;FMTTYPE=image/png:https://mumsarcade.com/wp-content/uploads/2022/11/1138848-300x300-1.png
END:VEVENT
BEGIN:VEVENT
DTSTART;TZID=America/Detroit:20260121T170000
DTEND;TZID=America/Detroit:20260121T200000
DTSTAMP:20260423T161657
CREATED:20240217T012756Z
LAST-MODIFIED:20240217T012757Z
UID:10002656-1769014800-1769025600@mumsarcade.com
SUMMARY:Open to the Public
DESCRIPTION:Open to the public Wednesdays 5-8pm: unlimited pinball & arcade play (no quarters needed!) \n“Almost half price” $8 per person\, plus Food Truck Wednesdays!
URL:https://mumsarcade.com/event/open-to-the-public-2/2026-01-21/
LOCATION:Mums Arcade\, 17738 Mack Ave\, Grosse Pointe\, MI\, 48230\, United States
CATEGORIES:Public Play
ATTACH;FMTTYPE=image/png:https://mumsarcade.com/wp-content/uploads/2022/11/1138848-300x300-1.png
END:VEVENT
BEGIN:VEVENT
DTSTART;TZID=America/Detroit:20260114T170000
DTEND;TZID=America/Detroit:20260114T200000
DTSTAMP:20260423T161657
CREATED:20240217T012756Z
LAST-MODIFIED:20240217T012757Z
UID:10002655-1768410000-1768420800@mumsarcade.com
SUMMARY:Open to the Public
DESCRIPTION:Open to the public Wednesdays 5-8pm: unlimited pinball & arcade play (no quarters needed!) \n“Almost half price” $8 per person\, plus Food Truck Wednesdays!
URL:https://mumsarcade.com/event/open-to-the-public-2/2026-01-14/
LOCATION:Mums Arcade\, 17738 Mack Ave\, Grosse Pointe\, MI\, 48230\, United States
CATEGORIES:Public Play
ATTACH;FMTTYPE=image/png:https://mumsarcade.com/wp-content/uploads/2022/11/1138848-300x300-1.png
END:VEVENT
BEGIN:VEVENT
DTSTART;TZID=America/Detroit:20260107T170000
DTEND;TZID=America/Detroit:20260107T200000
DTSTAMP:20260423T161657
CREATED:20240217T012756Z
LAST-MODIFIED:20240217T012757Z
UID:10002654-1767805200-1767816000@mumsarcade.com
SUMMARY:Open to the Public
DESCRIPTION:Open to the public Wednesdays 5-8pm: unlimited pinball & arcade play (no quarters needed!) \n“Almost half price” $8 per person\, plus Food Truck Wednesdays!
URL:https://mumsarcade.com/event/open-to-the-public-2/2026-01-07/
LOCATION:Mums Arcade\, 17738 Mack Ave\, Grosse Pointe\, MI\, 48230\, United States
CATEGORIES:Public Play
ATTACH;FMTTYPE=image/png:https://mumsarcade.com/wp-content/uploads/2022/11/1138848-300x300-1.png
END:VEVENT
BEGIN:VEVENT
DTSTART;TZID=America/Detroit:20251231T170000
DTEND;TZID=America/Detroit:20251231T200000
DTSTAMP:20260423T161657
CREATED:20240217T012756Z
LAST-MODIFIED:20240217T012757Z
UID:10002653-1767200400-1767211200@mumsarcade.com
SUMMARY:Open to the Public
DESCRIPTION:Open to the public Wednesdays 5-8pm: unlimited pinball & arcade play (no quarters needed!) \n“Almost half price” $8 per person\, plus Food Truck Wednesdays!
URL:https://mumsarcade.com/event/open-to-the-public-2/2025-12-31/
LOCATION:Mums Arcade\, 17738 Mack Ave\, Grosse Pointe\, MI\, 48230\, United States
CATEGORIES:Public Play
ATTACH;FMTTYPE=image/png:https://mumsarcade.com/wp-content/uploads/2022/11/1138848-300x300-1.png
END:VEVENT
BEGIN:VEVENT
DTSTART;TZID=America/Detroit:20251224T170000
DTEND;TZID=America/Detroit:20251224T200000
DTSTAMP:20260423T161657
CREATED:20240217T012756Z
LAST-MODIFIED:20240217T012757Z
UID:10002652-1766595600-1766606400@mumsarcade.com
SUMMARY:Open to the Public
DESCRIPTION:Open to the public Wednesdays 5-8pm: unlimited pinball & arcade play (no quarters needed!) \n“Almost half price” $8 per person\, plus Food Truck Wednesdays!
URL:https://mumsarcade.com/event/open-to-the-public-2/2025-12-24/
LOCATION:Mums Arcade\, 17738 Mack Ave\, Grosse Pointe\, MI\, 48230\, United States
CATEGORIES:Public Play
ATTACH;FMTTYPE=image/png:https://mumsarcade.com/wp-content/uploads/2022/11/1138848-300x300-1.png
END:VEVENT
BEGIN:VEVENT
DTSTART;TZID=America/Detroit:20251217T170000
DTEND;TZID=America/Detroit:20251217T200000
DTSTAMP:20260423T161657
CREATED:20240217T012756Z
LAST-MODIFIED:20240217T012757Z
UID:10002651-1765990800-1766001600@mumsarcade.com
SUMMARY:Open to the Public
DESCRIPTION:Open to the public Wednesdays 5-8pm: unlimited pinball & arcade play (no quarters needed!) \n“Almost half price” $8 per person\, plus Food Truck Wednesdays!
URL:https://mumsarcade.com/event/open-to-the-public-2/2025-12-17/
LOCATION:Mums Arcade\, 17738 Mack Ave\, Grosse Pointe\, MI\, 48230\, United States
CATEGORIES:Public Play
ATTACH;FMTTYPE=image/png:https://mumsarcade.com/wp-content/uploads/2022/11/1138848-300x300-1.png
END:VEVENT
BEGIN:VEVENT
DTSTART;TZID=America/Detroit:20251210T170000
DTEND;TZID=America/Detroit:20251210T200000
DTSTAMP:20260423T161657
CREATED:20240217T012756Z
LAST-MODIFIED:20240217T012757Z
UID:10002650-1765386000-1765396800@mumsarcade.com
SUMMARY:Open to the Public
DESCRIPTION:Open to the public Wednesdays 5-8pm: unlimited pinball & arcade play (no quarters needed!) \n“Almost half price” $8 per person\, plus Food Truck Wednesdays!
URL:https://mumsarcade.com/event/open-to-the-public-2/2025-12-10/
LOCATION:Mums Arcade\, 17738 Mack Ave\, Grosse Pointe\, MI\, 48230\, United States
CATEGORIES:Public Play
ATTACH;FMTTYPE=image/png:https://mumsarcade.com/wp-content/uploads/2022/11/1138848-300x300-1.png
END:VEVENT
BEGIN:VEVENT
DTSTART;TZID=America/Detroit:20251203T170000
DTEND;TZID=America/Detroit:20251203T200000
DTSTAMP:20260423T161657
CREATED:20240217T012756Z
LAST-MODIFIED:20240217T012757Z
UID:10002649-1764781200-1764792000@mumsarcade.com
SUMMARY:Open to the Public
DESCRIPTION:Open to the public Wednesdays 5-8pm: unlimited pinball & arcade play (no quarters needed!) \n“Almost half price” $8 per person\, plus Food Truck Wednesdays!
URL:https://mumsarcade.com/event/open-to-the-public-2/2025-12-03/
LOCATION:Mums Arcade\, 17738 Mack Ave\, Grosse Pointe\, MI\, 48230\, United States
CATEGORIES:Public Play
ATTACH;FMTTYPE=image/png:https://mumsarcade.com/wp-content/uploads/2022/11/1138848-300x300-1.png
END:VEVENT
BEGIN:VEVENT
DTSTART;TZID=America/Detroit:20251126T170000
DTEND;TZID=America/Detroit:20251126T200000
DTSTAMP:20260423T161657
CREATED:20240217T012756Z
LAST-MODIFIED:20240217T012757Z
UID:10002648-1764176400-1764187200@mumsarcade.com
SUMMARY:Open to the Public
DESCRIPTION:Open to the public Wednesdays 5-8pm: unlimited pinball & arcade play (no quarters needed!) \n“Almost half price” $8 per person\, plus Food Truck Wednesdays!
URL:https://mumsarcade.com/event/open-to-the-public-2/2025-11-26/
LOCATION:Mums Arcade\, 17738 Mack Ave\, Grosse Pointe\, MI\, 48230\, United States
CATEGORIES:Public Play
ATTACH;FMTTYPE=image/png:https://mumsarcade.com/wp-content/uploads/2022/11/1138848-300x300-1.png
END:VEVENT
BEGIN:VEVENT
DTSTART;TZID=America/Detroit:20251119T170000
DTEND;TZID=America/Detroit:20251119T200000
DTSTAMP:20260423T161657
CREATED:20240217T012756Z
LAST-MODIFIED:20240217T012757Z
UID:10002647-1763571600-1763582400@mumsarcade.com
SUMMARY:Open to the Public
DESCRIPTION:Open to the public Wednesdays 5-8pm: unlimited pinball & arcade play (no quarters needed!) \n“Almost half price” $8 per person\, plus Food Truck Wednesdays!
URL:https://mumsarcade.com/event/open-to-the-public-2/2025-11-19/
LOCATION:Mums Arcade\, 17738 Mack Ave\, Grosse Pointe\, MI\, 48230\, United States
CATEGORIES:Public Play
ATTACH;FMTTYPE=image/png:https://mumsarcade.com/wp-content/uploads/2022/11/1138848-300x300-1.png
END:VEVENT
BEGIN:VEVENT
DTSTART;TZID=America/Detroit:20251112T170000
DTEND;TZID=America/Detroit:20251112T200000
DTSTAMP:20260423T161657
CREATED:20240217T012756Z
LAST-MODIFIED:20240217T012757Z
UID:10002646-1762966800-1762977600@mumsarcade.com
SUMMARY:Open to the Public
DESCRIPTION:Open to the public Wednesdays 5-8pm: unlimited pinball & arcade play (no quarters needed!) \n“Almost half price” $8 per person\, plus Food Truck Wednesdays!
URL:https://mumsarcade.com/event/open-to-the-public-2/2025-11-12/
LOCATION:Mums Arcade\, 17738 Mack Ave\, Grosse Pointe\, MI\, 48230\, United States
CATEGORIES:Public Play
ATTACH;FMTTYPE=image/png:https://mumsarcade.com/wp-content/uploads/2022/11/1138848-300x300-1.png
END:VEVENT
BEGIN:VEVENT
DTSTART;TZID=America/Detroit:20251105T170000
DTEND;TZID=America/Detroit:20251105T200000
DTSTAMP:20260423T161657
CREATED:20240217T012756Z
LAST-MODIFIED:20240217T012757Z
UID:10002645-1762362000-1762372800@mumsarcade.com
SUMMARY:Open to the Public
DESCRIPTION:Open to the public Wednesdays 5-8pm: unlimited pinball & arcade play (no quarters needed!) \n“Almost half price” $8 per person\, plus Food Truck Wednesdays!
URL:https://mumsarcade.com/event/open-to-the-public-2/2025-11-05/
LOCATION:Mums Arcade\, 17738 Mack Ave\, Grosse Pointe\, MI\, 48230\, United States
CATEGORIES:Public Play
ATTACH;FMTTYPE=image/png:https://mumsarcade.com/wp-content/uploads/2022/11/1138848-300x300-1.png
END:VEVENT
BEGIN:VEVENT
DTSTART;TZID=America/Detroit:20251029T170000
DTEND;TZID=America/Detroit:20251029T200000
DTSTAMP:20260423T161657
CREATED:20240217T012756Z
LAST-MODIFIED:20240217T012757Z
UID:10002644-1761757200-1761768000@mumsarcade.com
SUMMARY:Open to the Public
DESCRIPTION:Open to the public Wednesdays 5-8pm: unlimited pinball & arcade play (no quarters needed!) \n“Almost half price” $8 per person\, plus Food Truck Wednesdays!
URL:https://mumsarcade.com/event/open-to-the-public-2/2025-10-29/
LOCATION:Mums Arcade\, 17738 Mack Ave\, Grosse Pointe\, MI\, 48230\, United States
CATEGORIES:Public Play
ATTACH;FMTTYPE=image/png:https://mumsarcade.com/wp-content/uploads/2022/11/1138848-300x300-1.png
END:VEVENT
BEGIN:VEVENT
DTSTART;TZID=America/Detroit:20251022T170000
DTEND;TZID=America/Detroit:20251022T200000
DTSTAMP:20260423T161657
CREATED:20240217T012756Z
LAST-MODIFIED:20240217T012757Z
UID:10002643-1761152400-1761163200@mumsarcade.com
SUMMARY:Open to the Public
DESCRIPTION:Open to the public Wednesdays 5-8pm: unlimited pinball & arcade play (no quarters needed!) \n“Almost half price” $8 per person\, plus Food Truck Wednesdays!
URL:https://mumsarcade.com/event/open-to-the-public-2/2025-10-22/
LOCATION:Mums Arcade\, 17738 Mack Ave\, Grosse Pointe\, MI\, 48230\, United States
CATEGORIES:Public Play
ATTACH;FMTTYPE=image/png:https://mumsarcade.com/wp-content/uploads/2022/11/1138848-300x300-1.png
END:VEVENT
BEGIN:VEVENT
DTSTART;TZID=America/Detroit:20251015T170000
DTEND;TZID=America/Detroit:20251015T200000
DTSTAMP:20260423T161657
CREATED:20240217T012756Z
LAST-MODIFIED:20240217T012757Z
UID:10002642-1760547600-1760558400@mumsarcade.com
SUMMARY:Open to the Public
DESCRIPTION:Open to the public Wednesdays 5-8pm: unlimited pinball & arcade play (no quarters needed!) \n“Almost half price” $8 per person\, plus Food Truck Wednesdays!
URL:https://mumsarcade.com/event/open-to-the-public-2/2025-10-15/
LOCATION:Mums Arcade\, 17738 Mack Ave\, Grosse Pointe\, MI\, 48230\, United States
CATEGORIES:Public Play
ATTACH;FMTTYPE=image/png:https://mumsarcade.com/wp-content/uploads/2022/11/1138848-300x300-1.png
END:VEVENT
BEGIN:VEVENT
DTSTART;TZID=America/Detroit:20251008T170000
DTEND;TZID=America/Detroit:20251008T200000
DTSTAMP:20260423T161657
CREATED:20240217T012756Z
LAST-MODIFIED:20240217T012757Z
UID:10002641-1759942800-1759953600@mumsarcade.com
SUMMARY:Open to the Public
DESCRIPTION:Open to the public Wednesdays 5-8pm: unlimited pinball & arcade play (no quarters needed!) \n“Almost half price” $8 per person\, plus Food Truck Wednesdays!
URL:https://mumsarcade.com/event/open-to-the-public-2/2025-10-08/
LOCATION:Mums Arcade\, 17738 Mack Ave\, Grosse Pointe\, MI\, 48230\, United States
CATEGORIES:Public Play
ATTACH;FMTTYPE=image/png:https://mumsarcade.com/wp-content/uploads/2022/11/1138848-300x300-1.png
END:VEVENT
BEGIN:VEVENT
DTSTART;TZID=America/Detroit:20251001T170000
DTEND;TZID=America/Detroit:20251001T200000
DTSTAMP:20260423T161657
CREATED:20240217T012756Z
LAST-MODIFIED:20240217T012757Z
UID:10002640-1759338000-1759348800@mumsarcade.com
SUMMARY:Open to the Public
DESCRIPTION:Open to the public Wednesdays 5-8pm: unlimited pinball & arcade play (no quarters needed!) \n“Almost half price” $8 per person\, plus Food Truck Wednesdays!
URL:https://mumsarcade.com/event/open-to-the-public-2/2025-10-01/
LOCATION:Mums Arcade\, 17738 Mack Ave\, Grosse Pointe\, MI\, 48230\, United States
CATEGORIES:Public Play
ATTACH;FMTTYPE=image/png:https://mumsarcade.com/wp-content/uploads/2022/11/1138848-300x300-1.png
END:VEVENT
END:VCALENDAR