BEGIN:VCALENDAR
VERSION:2.0
PRODID:-//Mums Arcade - ECPv6.15.20//NONSGML v1.0//EN
CALSCALE:GREGORIAN
METHOD:PUBLISH
X-ORIGINAL-URL:https://mumsarcade.com
X-WR-CALDESC:Events for Mums Arcade
REFRESH-INTERVAL;VALUE=DURATION:PT1H
X-Robots-Tag:noindex
X-PUBLISHED-TTL:PT1H
BEGIN:VTIMEZONE
TZID:America/Detroit
BEGIN:DAYLIGHT
TZOFFSETFROM:-0500
TZOFFSETTO:-0400
TZNAME:EDT
DTSTART:20210314T070000
END:DAYLIGHT
BEGIN:STANDARD
TZOFFSETFROM:-0400
TZOFFSETTO:-0500
TZNAME:EST
DTSTART:20211107T060000
END:STANDARD
BEGIN:DAYLIGHT
TZOFFSETFROM:-0500
TZOFFSETTO:-0400
TZNAME:EDT
DTSTART:20220313T070000
END:DAYLIGHT
BEGIN:STANDARD
TZOFFSETFROM:-0400
TZOFFSETTO:-0500
TZNAME:EST
DTSTART:20221106T060000
END:STANDARD
BEGIN:DAYLIGHT
TZOFFSETFROM:-0500
TZOFFSETTO:-0400
TZNAME:EDT
DTSTART:20230312T070000
END:DAYLIGHT
BEGIN:STANDARD
TZOFFSETFROM:-0400
TZOFFSETTO:-0500
TZNAME:EST
DTSTART:20231105T060000
END:STANDARD
BEGIN:DAYLIGHT
TZOFFSETFROM:-0500
TZOFFSETTO:-0400
TZNAME:EDT
DTSTART:20240310T070000
END:DAYLIGHT
BEGIN:STANDARD
TZOFFSETFROM:-0400
TZOFFSETTO:-0500
TZNAME:EST
DTSTART:20241103T060000
END:STANDARD
END:VTIMEZONE
BEGIN:VEVENT
DTSTART;TZID=America/Detroit:20230212T150000
DTEND;TZID=America/Detroit:20230212T183000
DTSTAMP:20260423T223156
CREATED:20230202T222137Z
LAST-MODIFIED:20230202T222137Z
UID:10002507-1676214000-1676226600@mumsarcade.com
SUMMARY:Ellen Private Party
DESCRIPTION:Kids bday party 20 people with slot cars
URL:https://mumsarcade.com/event/ellen-private-party/
LOCATION:Mums Arcade\, 17738 Mack Ave\, Grosse Pointe\, MI\, 48230\, United States
CATEGORIES:PRIVATE PARTY
END:VEVENT
BEGIN:VEVENT
DTSTART;TZID=America/Detroit:20230211T120000
DTEND;TZID=America/Detroit:20230211T150000
DTSTAMP:20260423T223156
CREATED:20230207T163610Z
LAST-MODIFIED:20230207T163610Z
UID:10002514-1676116800-1676127600@mumsarcade.com
SUMMARY:Reed Private Party
DESCRIPTION:14 yo surprise party 10 people with slots
URL:https://mumsarcade.com/event/reed-private-party/
LOCATION:Mums Arcade\, 17738 Mack Ave\, Grosse Pointe\, MI\, 48230\, United States
CATEGORIES:PRIVATE PARTY
END:VEVENT
BEGIN:VEVENT
DTSTART;TZID=America/Detroit:20230205T153000
DTEND;TZID=America/Detroit:20230205T183000
DTSTAMP:20260423T223156
CREATED:20230202T223746Z
LAST-MODIFIED:20230202T223746Z
UID:10002508-1675611000-1675621800@mumsarcade.com
SUMMARY:Lisa Ann Private Party
DESCRIPTION:20 ish kids/adults with slot cars 12 yo bday party
URL:https://mumsarcade.com/event/lisa-ann-private-party/
LOCATION:Mums Arcade\, 17738 Mack Ave\, Grosse Pointe\, MI\, 48230\, United States
CATEGORIES:PRIVATE PARTY
END:VEVENT
BEGIN:VEVENT
DTSTART;TZID=America/Detroit:20230129T153000
DTEND;TZID=America/Detroit:20230129T183000
DTSTAMP:20260423T223156
CREATED:20230118T174832Z
LAST-MODIFIED:20230118T174832Z
UID:10002503-1675006200-1675017000@mumsarcade.com
SUMMARY:Rocha Private Party
DESCRIPTION:20 slot cars
URL:https://mumsarcade.com/event/rocha-private-party/
LOCATION:Mums Arcade\, 17738 Mack Ave\, Grosse Pointe\, MI\, 48230\, United States
CATEGORIES:PRIVATE PARTY
END:VEVENT
BEGIN:VEVENT
DTSTART;TZID=America/Detroit:20230128T153000
DTEND;TZID=America/Detroit:20230128T183000
DTSTAMP:20260423T223156
CREATED:20230118T182412Z
LAST-MODIFIED:20230118T182412Z
UID:10002505-1674919800-1674930600@mumsarcade.com
SUMMARY:Moore Private Party
DESCRIPTION:Bday party 10-15 maybe slots
URL:https://mumsarcade.com/event/moore-private-party/
LOCATION:Mums Arcade\, 17738 Mack Ave\, Grosse Pointe\, MI\, 48230\, United States
CATEGORIES:PRIVATE PARTY
END:VEVENT
BEGIN:VEVENT
DTSTART;TZID=America/Detroit:20230124T190000
DTEND;TZID=America/Detroit:20230124T230000
DTSTAMP:20260423T223156
CREATED:20230124T171743Z
LAST-MODIFIED:20230124T150832Z
UID:10002499-1674586800-1674601200@mumsarcade.com
SUMMARY:Private Bday
DESCRIPTION:
URL:https://mumsarcade.com/event/vics-9th-bday/
LOCATION:Mums Arcade\, 17738 Mack Ave\, Grosse Pointe\, MI\, 48230\, United States
CATEGORIES:PRIVATE PARTY
END:VEVENT
BEGIN:VEVENT
DTSTART;TZID=America/Detroit:20230108T160000
DTEND;TZID=America/Detroit:20230108T180000
DTSTAMP:20260423T223156
CREATED:20221215T175452Z
LAST-MODIFIED:20221215T175452Z
UID:10002356-1673193600-1673200800@mumsarcade.com
SUMMARY:Hayes Private Party
DESCRIPTION:
URL:https://mumsarcade.com/event/hayes-private-party/
LOCATION:Mums Arcade\, 17738 Mack Ave\, Grosse Pointe\, MI\, 48230\, United States
CATEGORIES:PRIVATE PARTY
END:VEVENT
BEGIN:VEVENT
DTSTART;TZID=America/Detroit:20230108T120000
DTEND;TZID=America/Detroit:20230108T150000
DTSTAMP:20260423T223156
CREATED:20221215T175600Z
LAST-MODIFIED:20221215T175602Z
UID:10002352-1673179200-1673190000@mumsarcade.com
SUMMARY:Private Party- Eve Mosher
DESCRIPTION:*CLOSED for Private Party
URL:https://mumsarcade.com/event/private-party-2/
LOCATION:Mums Arcade\, 17738 Mack Ave\, Grosse Pointe\, MI\, 48230\, United States
CATEGORIES:PRIVATE PARTY
END:VEVENT
BEGIN:VEVENT
DTSTART;TZID=America/Detroit:20221230T150000
DTEND;TZID=America/Detroit:20221230T180000
DTSTAMP:20260423T223156
CREATED:20221219T193930Z
LAST-MODIFIED:20221229T233613Z
UID:10002357-1672412400-1672423200@mumsarcade.com
SUMMARY:Private Party Morris
DESCRIPTION:
URL:https://mumsarcade.com/event/private-party-morris/
LOCATION:Mums Arcade\, 17738 Mack Ave\, Grosse Pointe\, MI\, 48230\, United States
CATEGORIES:PRIVATE PARTY
END:VEVENT
BEGIN:VEVENT
DTSTART;TZID=America/Detroit:20221228T180000
DTEND;TZID=America/Detroit:20221228T233000
DTSTAMP:20260423T223156
CREATED:20221227T132441Z
LAST-MODIFIED:20221227T132441Z
UID:10002425-1672250400-1672270200@mumsarcade.com
SUMMARY:Grand Private Party
DESCRIPTION:
URL:https://mumsarcade.com/event/grand-private-party/
LOCATION:Mums Arcade\, 17738 Mack Ave\, Grosse Pointe\, MI\, 48230\, United States
CATEGORIES:PRIVATE PARTY
END:VEVENT
BEGIN:VEVENT
DTSTART;TZID=America/Detroit:20221226T120000
DTEND;TZID=America/Detroit:20221226T150000
DTSTAMP:20260423T223156
CREATED:20221215T163345Z
LAST-MODIFIED:20221215T163345Z
UID:10002355-1672056000-1672066800@mumsarcade.com
SUMMARY:Marc Jerabek
DESCRIPTION:
URL:https://mumsarcade.com/event/marc-jerabek/
LOCATION:Mums Arcade\, 17738 Mack Ave\, Grosse Pointe\, MI\, 48230\, United States
CATEGORIES:PRIVATE PARTY
END:VEVENT
BEGIN:VEVENT
DTSTART;TZID=America/Detroit:20221220T193000
DTEND;TZID=America/Detroit:20221220T220000
DTSTAMP:20260423T223156
CREATED:20221215T162528Z
LAST-MODIFIED:20221215T162528Z
UID:10002354-1671564600-1671573600@mumsarcade.com
SUMMARY:Vikas Relan
DESCRIPTION:
URL:https://mumsarcade.com/event/vikas-relan/
LOCATION:Mums Arcade\, 17738 Mack Ave\, Grosse Pointe\, MI\, 48230\, United States
CATEGORIES:PRIVATE PARTY
END:VEVENT
BEGIN:VEVENT
DTSTART;TZID=America/Detroit:20221219T113000
DTEND;TZID=America/Detroit:20221219T133000
DTSTAMP:20260423T223156
CREATED:20221215T161748Z
LAST-MODIFIED:20221215T161748Z
UID:10002353-1671449400-1671456600@mumsarcade.com
SUMMARY:Kent Nicoles Party
DESCRIPTION:
URL:https://mumsarcade.com/event/kent-nicoles-party/
LOCATION:Mums Arcade\, 17738 Mack Ave\, Grosse Pointe\, MI\, 48230\, United States
CATEGORIES:PRIVATE PARTY
END:VEVENT
END:VCALENDAR